BEGIN:VCALENDAR
VERSION:2.0
PRODID:-//destination.one//NONSGML destination.meta API//DE
X-WR-CALDESC:A calendar powered by destination.meta
X-WR-CALNAME:nordwaerts Kalender via destination.meta
BEGIN:VEVENT
CATEGORIES:Weihnachtsmarkt
DESCRIPTION:Adventsleuchten 2024\nAm Nikolaus-Wochenende nach Rotenburg (Wü
 mme)\n\nmehr Informationen unter http://pages.destination.one/de/nordwaert
 s/streaming/detail/Event/e_100888829/adventsleuchten-rotenburg-w-mme
DTEND;TZID=Europe/Berlin:20241206T220000
DTSTAMP:20260422T084017Z
DTSTART;TZID=Europe/Berlin:20241206T170000
GEO:53.109950;9.401207
LOCATION:Stadtstreek Rotenburg (Wümme)\, Am Wasser\, Rotenburg (Wümme)
ORGANIZER;CN=Stadtstreek Rotenburg (Wümme):mailto:tib@rotenburg-wuemme.de
SEQUENCE:0
SUMMARY:Adventsleuchten Rotenburg (Wümme)
UID:e_100888829_iv0
URL:http://pages.destination.one/de/nordwaerts/streaming/detail/Event/e_100
 888829/adventsleuchten-rotenburg-w-mme
END:VEVENT
BEGIN:VEVENT
CATEGORIES:Weihnachtsmarkt
DESCRIPTION:Adventsleuchten 2024\nAm Nikolaus-Wochenende nach Rotenburg (Wü
 mme)\n\nmehr Informationen unter http://pages.destination.one/de/nordwaert
 s/streaming/detail/Event/e_100888829/adventsleuchten-rotenburg-w-mme
DTEND;TZID=Europe/Berlin:20241207T210000
DTSTAMP:20260422T084017Z
DTSTART;TZID=Europe/Berlin:20241207T140000
GEO:53.109950;9.401207
LOCATION:Stadtstreek Rotenburg (Wümme)\, Am Wasser\, Rotenburg (Wümme)
ORGANIZER;CN=Stadtstreek Rotenburg (Wümme):mailto:tib@rotenburg-wuemme.de
SEQUENCE:0
SUMMARY:Adventsleuchten Rotenburg (Wümme)
UID:e_100888829_iv1
URL:http://pages.destination.one/de/nordwaerts/streaming/detail/Event/e_100
 888829/adventsleuchten-rotenburg-w-mme
END:VEVENT
BEGIN:VEVENT
CATEGORIES:Weihnachtsmarkt
DESCRIPTION:Adventsleuchten 2024\nAm Nikolaus-Wochenende nach Rotenburg (Wü
 mme)\n\nmehr Informationen unter http://pages.destination.one/de/nordwaert
 s/streaming/detail/Event/e_100888829/adventsleuchten-rotenburg-w-mme
DTEND;TZID=Europe/Berlin:20261204T210000
DTSTAMP:20260422T084017Z
DTSTART;TZID=Europe/Berlin:20261204T170000
GEO:53.109950;9.401207
LOCATION:Stadtstreek Rotenburg (Wümme)\, Am Wasser\, Rotenburg (Wümme)
ORGANIZER;CN=Stadtstreek Rotenburg (Wümme):mailto:tib@rotenburg-wuemme.de
SEQUENCE:0
SUMMARY:Adventsleuchten Rotenburg (Wümme)
UID:e_100888829_iv2
URL:http://pages.destination.one/de/nordwaerts/streaming/detail/Event/e_100
 888829/adventsleuchten-rotenburg-w-mme
END:VEVENT
BEGIN:VEVENT
CATEGORIES:Weihnachtsmarkt
DESCRIPTION:Adventsleuchten 2024\nAm Nikolaus-Wochenende nach Rotenburg (Wü
 mme)\n\nmehr Informationen unter http://pages.destination.one/de/nordwaert
 s/streaming/detail/Event/e_100888829/adventsleuchten-rotenburg-w-mme
DTEND;TZID=Europe/Berlin:20261205T210000
DTSTAMP:20260422T084017Z
DTSTART;TZID=Europe/Berlin:20261205T140000
GEO:53.109950;9.401207
LOCATION:Stadtstreek Rotenburg (Wümme)\, Am Wasser\, Rotenburg (Wümme)
ORGANIZER;CN=Stadtstreek Rotenburg (Wümme):mailto:tib@rotenburg-wuemme.de
SEQUENCE:0
SUMMARY:Adventsleuchten Rotenburg (Wümme)
UID:e_100888829_iv3
URL:http://pages.destination.one/de/nordwaerts/streaming/detail/Event/e_100
 888829/adventsleuchten-rotenburg-w-mme
END:VEVENT
BEGIN:VEVENT
CATEGORIES:Weihnachtsmarkt
DESCRIPTION:Adventsleuchten 2024\nAm Nikolaus-Wochenende nach Rotenburg (Wü
 mme)\n\nmehr Informationen unter http://pages.destination.one/de/nordwaert
 s/streaming/detail/Event/e_100888829/adventsleuchten-rotenburg-w-mme
DTEND;TZID=Europe/Berlin:20261206T190000
DTSTAMP:20260422T084017Z
DTSTART;TZID=Europe/Berlin:20261206T120000
GEO:53.109950;9.401207
LOCATION:Stadtstreek Rotenburg (Wümme)\, Am Wasser\, Rotenburg (Wümme)
ORGANIZER;CN=Stadtstreek Rotenburg (Wümme):mailto:tib@rotenburg-wuemme.de
SEQUENCE:0
SUMMARY:Adventsleuchten Rotenburg (Wümme)
UID:e_100888829_iv4
URL:http://pages.destination.one/de/nordwaerts/streaming/detail/Event/e_100
 888829/adventsleuchten-rotenburg-w-mme
END:VEVENT
BEGIN:VTIMEZONE
TZID:Europe/Berlin
X-LIC-LOCATION:Europe/Berlin
BEGIN:DAYLIGHT
DTSTART:19700329T020000
RRULE:FREQ=YEARLY;BYDAY=-1SU;BYMONTH=3
TZNAME:CEST
TZOFFSETFROM:+0100
TZOFFSETTO:+0200
END:DAYLIGHT
BEGIN:STANDARD
DTSTART:19701025T030000
RRULE:FREQ=YEARLY;BYDAY=-1SU;BYMONTH=10
TZNAME:CET
TZOFFSETFROM:+0200
TZOFFSETTO:+0100
END:STANDARD
END:VTIMEZONE
END:VCALENDAR
