BEGIN:VCALENDAR
VERSION:2.0
PRODID:-//destination.one//NONSGML destination.meta API//DE
X-WR-CALDESC:A calendar powered by destination.meta
X-WR-CALNAME:nordwaerts Kalender via destination.meta
BEGIN:VEVENT
CATEGORIES:Konzert
DESCRIPTION:Im Rahmen der 44. Zevener Gitarrenwoche ist  „Julie Malía" am 2
 2. Mai im Rathaussaal Zeven zu Gast und begeistert mit technischer Brillan
 z mit emotionaler Ausdruckskraft.\n\nmehr Informationen unter http://pages
 .destination.one/de/nordwaerts/streaming/detail/Event/e_101131868/mal-a-ki
 mmel-weinert-bei-der-44-zevener-gitarrenwoche
DTEND;TZID=Europe/Berlin:20260522T235900
DTSTAMP:20260426T033757Z
DTSTART;TZID=Europe/Berlin:20260522T200000
GEO:53.295461;9.279425
LOCATION:Rathaussaal Zeven\, Am Markt 4\, Zeven
SEQUENCE:0
SUMMARY:Malía\, Kimmel\, Weinert bei der 44. Zevener Gitarrenwoche
UID:e_101131868_iv0
URL:http://pages.destination.one/de/nordwaerts/streaming/detail/Event/e_101
 131868/mal-a-kimmel-weinert-bei-der-44-zevener-gitarrenwoche
END:VEVENT
BEGIN:VTIMEZONE
TZID:Europe/Berlin
X-LIC-LOCATION:Europe/Berlin
BEGIN:DAYLIGHT
DTSTART:19700329T020000
RRULE:FREQ=YEARLY;BYDAY=-1SU;BYMONTH=3
TZNAME:CEST
TZOFFSETFROM:+0100
TZOFFSETTO:+0200
END:DAYLIGHT
BEGIN:STANDARD
DTSTART:19701025T030000
RRULE:FREQ=YEARLY;BYDAY=-1SU;BYMONTH=10
TZNAME:CET
TZOFFSETFROM:+0200
TZOFFSETTO:+0100
END:STANDARD
END:VTIMEZONE
END:VCALENDAR
