BEGIN:VCALENDAR
VERSION:2.0
PRODID:-//destination.one//NONSGML destination.meta API//DE
X-WR-CALDESC:A calendar powered by destination.meta
X-WR-CALNAME:nordwaerts Kalender via destination.meta
BEGIN:VEVENT
CATEGORIES:Konzert
DESCRIPTION:Gemeinsam mit der Eröffnung der diesjährigen Sommerausstellung\
 , findet am 07. Juni ein Konzert mit dem "Jamaha Jazz Trio" im Christineng
 arten statt.\n\nmehr Informationen unter http://pages.destination.one/de/n
 ordwaerts/streaming/detail/Event/e_101134481/gartenkonzert
DTEND;TZID=Europe/Berlin:20260607T235900
DTSTAMP:20260421T140416Z
DTSTART;TZID=Europe/Berlin:20260607T160000
GEO:53.294670;9.280780
LOCATION:Königin-Christinen-Haus\, Lindenstr. 11\, Zeven
SEQUENCE:0
SUMMARY:Gartenkonzert
UID:e_101134481_iv0
URL:http://pages.destination.one/de/nordwaerts/streaming/detail/Event/e_101
 134481/gartenkonzert
END:VEVENT
BEGIN:VTIMEZONE
TZID:Europe/Berlin
X-LIC-LOCATION:Europe/Berlin
BEGIN:DAYLIGHT
DTSTART:19700329T020000
RRULE:FREQ=YEARLY;BYDAY=-1SU;BYMONTH=3
TZNAME:CEST
TZOFFSETFROM:+0100
TZOFFSETTO:+0200
END:DAYLIGHT
BEGIN:STANDARD
DTSTART:19701025T030000
RRULE:FREQ=YEARLY;BYDAY=-1SU;BYMONTH=10
TZNAME:CET
TZOFFSETFROM:+0200
TZOFFSETTO:+0100
END:STANDARD
END:VTIMEZONE
END:VCALENDAR
