BEGIN:VCALENDAR
VERSION:2.0
PRODID:-//destination.one//NONSGML destination.meta API//DE
X-WR-CALDESC:A calendar powered by destination.meta
X-WR-CALNAME:nordwaerts Kalender via destination.meta
BEGIN:VEVENT
CATEGORIES:Kindertheater
CATEGORIES:Show sonstige
DESCRIPTION:\n\nmehr Informationen unter http://pages.destination.one/de/no
 rdwaerts/streaming/detail/Event/e_101135197/weihnachtsm-rchen
DTEND;TZID=Europe/Berlin:20261123T235900
DTSTAMP:20260426T013455Z
DTSTART;TZID=Europe/Berlin:20261123T143000
GEO:53.295461;9.279425
LOCATION:Rathaussaal Zeven\, Am Markt 4\, Zeven
SEQUENCE:0
SUMMARY:Weihnachtsmärchen
UID:e_101135197_iv0
URL:http://pages.destination.one/de/nordwaerts/streaming/detail/Event/e_101
 135197/weihnachtsm-rchen
END:VEVENT
BEGIN:VEVENT
CATEGORIES:Kindertheater
CATEGORIES:Show sonstige
DESCRIPTION:\n\nmehr Informationen unter http://pages.destination.one/de/no
 rdwaerts/streaming/detail/Event/e_101135197/weihnachtsm-rchen
DTEND;TZID=Europe/Berlin:20261124T235900
DTSTAMP:20260426T013455Z
DTSTART;TZID=Europe/Berlin:20261124T143000
GEO:53.295461;9.279425
LOCATION:Rathaussaal Zeven\, Am Markt 4\, Zeven
SEQUENCE:0
SUMMARY:Weihnachtsmärchen
UID:e_101135197_iv1
URL:http://pages.destination.one/de/nordwaerts/streaming/detail/Event/e_101
 135197/weihnachtsm-rchen
END:VEVENT
BEGIN:VTIMEZONE
TZID:Europe/Berlin
X-LIC-LOCATION:Europe/Berlin
BEGIN:DAYLIGHT
DTSTART:19700329T020000
RRULE:FREQ=YEARLY;BYDAY=-1SU;BYMONTH=3
TZNAME:CEST
TZOFFSETFROM:+0100
TZOFFSETTO:+0200
END:DAYLIGHT
BEGIN:STANDARD
DTSTART:19701025T030000
RRULE:FREQ=YEARLY;BYDAY=-1SU;BYMONTH=10
TZNAME:CET
TZOFFSETFROM:+0200
TZOFFSETTO:+0100
END:STANDARD
END:VTIMEZONE
END:VCALENDAR
