BEGIN:VCALENDAR
VERSION:2.0
PRODID:-//destination.one//NONSGML destination.meta API//DE
X-WR-CALDESC:A calendar powered by destination.meta
X-WR-CALNAME:nordwaerts Kalender via destination.meta
BEGIN:VEVENT
CATEGORIES:Ausstellung
DESCRIPTION:Infos folgen in Kürze.\n\nmehr Informationen unter http://pages
 .destination.one/de/nordwaerts/streaming/detail/Event/e_101135893/herbstau
 sstellung
DTEND;TZID=Europe/Berlin:20260911T173000
DTSTAMP:20260421T155019Z
DTSTART;TZID=Europe/Berlin:20260911T143000
GEO:53.295285;9.280226
LOCATION:Königin-Christinen-Haus Zeven\, Lindenstraße 11\, Zeven
RRULE:FREQ=WEEKLY;UNTIL=20260912T153000;BYDAY=TH,SU
SEQUENCE:0
SUMMARY:Herbstausstellung
UID:e_101135893_iv0
URL:http://pages.destination.one/de/nordwaerts/streaming/detail/Event/e_101
 135893/herbstausstellung
END:VEVENT
BEGIN:VEVENT
CATEGORIES:Ausstellung
DESCRIPTION:Infos folgen in Kürze.\n\nmehr Informationen unter http://pages
 .destination.one/de/nordwaerts/streaming/detail/Event/e_101135893/herbstau
 sstellung
DTEND;TZID=Europe/Berlin:20260913T235900
DTSTAMP:20260421T155019Z
DTSTART;TZID=Europe/Berlin:20260913T150000
GEO:53.295285;9.280226
LOCATION:Königin-Christinen-Haus Zeven\, Lindenstraße 11\, Zeven
SEQUENCE:0
SUMMARY:Herbstausstellung
UID:e_101135893_iv1
URL:http://pages.destination.one/de/nordwaerts/streaming/detail/Event/e_101
 135893/herbstausstellung
END:VEVENT
BEGIN:VEVENT
CATEGORIES:Ausstellung
DESCRIPTION:Infos folgen in Kürze.\n\nmehr Informationen unter http://pages
 .destination.one/de/nordwaerts/streaming/detail/Event/e_101135893/herbstau
 sstellung
DTEND;TZID=Europe/Berlin:20260917T173000
DTSTAMP:20260421T155019Z
DTSTART;TZID=Europe/Berlin:20260917T143000
GEO:53.295285;9.280226
LOCATION:Königin-Christinen-Haus Zeven\, Lindenstraße 11\, Zeven
RRULE:FREQ=WEEKLY;UNTIL=20261129T163000;BYDAY=TH,SU
SEQUENCE:0
SUMMARY:Herbstausstellung
UID:e_101135893_iv2
URL:http://pages.destination.one/de/nordwaerts/streaming/detail/Event/e_101
 135893/herbstausstellung
END:VEVENT
BEGIN:VTIMEZONE
TZID:Europe/Berlin
X-LIC-LOCATION:Europe/Berlin
BEGIN:DAYLIGHT
DTSTART:19700329T020000
RRULE:FREQ=YEARLY;BYDAY=-1SU;BYMONTH=3
TZNAME:CEST
TZOFFSETFROM:+0100
TZOFFSETTO:+0200
END:DAYLIGHT
BEGIN:STANDARD
DTSTART:19701025T030000
RRULE:FREQ=YEARLY;BYDAY=-1SU;BYMONTH=10
TZNAME:CET
TZOFFSETFROM:+0200
TZOFFSETTO:+0100
END:STANDARD
END:VTIMEZONE
END:VCALENDAR
