BEGIN:VCALENDAR
VERSION:2.0
PRODID:-//destination.one//NONSGML destination.meta API//DE
X-WR-CALDESC:A calendar powered by destination.meta
X-WR-CALNAME:nordwaerts Kalender via destination.meta
BEGIN:VEVENT
CATEGORIES:Begegnungsangebote
CATEGORIES:Musik sonstige
CATEGORIES:Tradition\, Brauchtum\, Volksfest sonstige
DESCRIPTION:Der Präventionsrat Zeven lädt auch in diesem Jahr wieder zum Fr
 ühlingsfest der Kulturen ein. Menschen aller Herkünfte können hierbei bei 
 einem vielfältigen Programm zusammenkommen.\n\nmehr Informationen unter ht
 tp://pages.destination.one/de/nordwaerts/streaming/detail/Event/e_10116623
 1/fr-hlingsfest-der-kulturen
DTEND;TZID=Europe/Berlin:20260418T180000
DTSTAMP:20260424T131432Z
DTSTART;TZID=Europe/Berlin:20260418T140000
GEO:53.297095;9.286484
LOCATION:Kinder- und Jugendhaus\, Bäckerstraße 28\, Zeven
SEQUENCE:0
SUMMARY:Frühlingsfest der Kulturen
UID:e_101166231_iv0
URL:http://pages.destination.one/de/nordwaerts/streaming/detail/Event/e_101
 166231/fr-hlingsfest-der-kulturen
END:VEVENT
BEGIN:VTIMEZONE
TZID:Europe/Berlin
X-LIC-LOCATION:Europe/Berlin
BEGIN:DAYLIGHT
DTSTART:19700329T020000
RRULE:FREQ=YEARLY;BYDAY=-1SU;BYMONTH=3
TZNAME:CEST
TZOFFSETFROM:+0100
TZOFFSETTO:+0200
END:DAYLIGHT
BEGIN:STANDARD
DTSTART:19701025T030000
RRULE:FREQ=YEARLY;BYDAY=-1SU;BYMONTH=10
TZNAME:CET
TZOFFSETFROM:+0200
TZOFFSETTO:+0100
END:STANDARD
END:VTIMEZONE
END:VCALENDAR
