BEGIN:VCALENDAR
VERSION:2.0
PRODID:-//destination.one//NONSGML destination.meta API//DE
X-WR-CALDESC:A calendar powered by destination.meta
X-WR-CALNAME:nordwaerts Kalender via destination.meta
BEGIN:VEVENT
CATEGORIES:Party
DESCRIPTION:Charity-Dinner des Lions Clubs für den guten Zweck unter dem Mo
 tto: "Flower Power"\n\nmehr Informationen unter http://pages.destination.o
 ne/de/nordwaerts/streaming/detail/Event/e_101169175/charity-mit-motto-flow
 er-power
DTEND;TZID=Europe/Berlin:20260711T220000
DTSTAMP:20260421T131135Z
DTSTART;TZID=Europe/Berlin:20260711T200000
GEO:53.006162;9.615427
LOCATION:Hotel Röhrs\, Neuenkirchener Str. 3\, Visselhövede
ORGANIZER;CN=Vissel-Lions Förderverein e.V.:mailto:webmaster@vissel-lions.d
 e
SEQUENCE:0
SUMMARY:Charity mit Motto Flower-Power
UID:e_101169175_iv0
URL:http://pages.destination.one/de/nordwaerts/streaming/detail/Event/e_101
 169175/charity-mit-motto-flower-power
END:VEVENT
BEGIN:VTIMEZONE
TZID:Europe/Berlin
X-LIC-LOCATION:Europe/Berlin
BEGIN:DAYLIGHT
DTSTART:19700329T020000
RRULE:FREQ=YEARLY;BYDAY=-1SU;BYMONTH=3
TZNAME:CEST
TZOFFSETFROM:+0100
TZOFFSETTO:+0200
END:DAYLIGHT
BEGIN:STANDARD
DTSTART:19701025T030000
RRULE:FREQ=YEARLY;BYDAY=-1SU;BYMONTH=10
TZNAME:CET
TZOFFSETFROM:+0200
TZOFFSETTO:+0100
END:STANDARD
END:VTIMEZONE
END:VCALENDAR
