BEGIN:VCALENDAR
VERSION:2.0
PRODID:-//destination.one//NONSGML destination.meta API//DE
X-WR-CALDESC:A calendar powered by destination.meta
X-WR-CALNAME:nordwaerts Kalender via destination.meta
BEGIN:VEVENT
CATEGORIES:Literatur sonstige
DESCRIPTION:Bücherfrühling in der Stadtbibliothek Rotenburg (W.)\n\nmehr In
 formationen unter http://pages.destination.one/de/nordwaerts/streaming/det
 ail/Event/e_101184435/b-cherfr-hling-buchtipps-f-rs-lesevergn-gen
DTEND;TZID=Europe/Berlin:20260413T235900
DTSTAMP:20260420T234513Z
DTSTART;TZID=Europe/Berlin:20260413T183000
GEO:53.108411;9.405545
LOCATION:Stadtbibliothek Rotenburg (Wümme)\, Am Kirchhof 10\, Rotenburg (Wü
 mme)
ORGANIZER;CN=Stadtbibliothek Rotenburg (Wümme):mailto:bib@rotenburg-wuemme.
 de
SEQUENCE:0
SUMMARY:Bücherfrühling - Buchtipps fürs Lesevergnügen
UID:e_101184435_iv0
URL:http://pages.destination.one/de/nordwaerts/streaming/detail/Event/e_101
 184435/b-cherfr-hling-buchtipps-f-rs-lesevergn-gen
END:VEVENT
BEGIN:VTIMEZONE
TZID:Europe/Berlin
X-LIC-LOCATION:Europe/Berlin
BEGIN:DAYLIGHT
DTSTART:19700329T020000
RRULE:FREQ=YEARLY;BYDAY=-1SU;BYMONTH=3
TZNAME:CEST
TZOFFSETFROM:+0100
TZOFFSETTO:+0200
END:DAYLIGHT
BEGIN:STANDARD
DTSTART:19701025T030000
RRULE:FREQ=YEARLY;BYDAY=-1SU;BYMONTH=10
TZNAME:CET
TZOFFSETFROM:+0200
TZOFFSETTO:+0100
END:STANDARD
END:VTIMEZONE
END:VCALENDAR
