BEGIN:VCALENDAR
VERSION:2.0
PRODID:-//destination.one//NONSGML destination.meta API//DE
X-WR-CALDESC:A calendar powered by destination.meta
X-WR-CALNAME:nordwaerts Kalender via destination.meta
BEGIN:VEVENT
CATEGORIES:Naturführung
DESCRIPTION:Zu Fuß entlang des Modell-Ackers\n\nmehr Informationen unter ht
 tp://pages.destination.one/de/nordwaerts/streaming/detail/Event/e_10118523
 2/f-hrung-auf-dem-lehrpfad-in-riepholm
DTEND;TZID=Europe/Berlin:20240606T200000
DTSTAMP:20260421T131245Z
DTSTART;TZID=Europe/Berlin:20240606T173000
GEO:52.977625;9.638008
LOCATION:Riepholmer Modell-Acker \, Riepholm 2\, Visselhövede
ORGANIZER;CN=Riepholmer Modell-Acker :mailto:kontakt@modell-acker.de
SEQUENCE:0
SUMMARY:Führung auf dem Lehrpfad in Riepholm
UID:e_101185232_iv0
URL:http://pages.destination.one/de/nordwaerts/streaming/detail/Event/e_101
 185232/f-hrung-auf-dem-lehrpfad-in-riepholm
END:VEVENT
BEGIN:VEVENT
CATEGORIES:Naturführung
DESCRIPTION:Zu Fuß entlang des Modell-Ackers\n\nmehr Informationen unter ht
 tp://pages.destination.one/de/nordwaerts/streaming/detail/Event/e_10118523
 2/f-hrung-auf-dem-lehrpfad-in-riepholm
DTEND;TZID=Europe/Berlin:20260617T200000
DTSTAMP:20260421T131245Z
DTSTART;TZID=Europe/Berlin:20260617T180000
GEO:52.977625;9.638008
LOCATION:Riepholmer Modell-Acker \, Riepholm 2\, Visselhövede
ORGANIZER;CN=Riepholmer Modell-Acker :mailto:kontakt@modell-acker.de
SEQUENCE:0
SUMMARY:Führung auf dem Lehrpfad in Riepholm
UID:e_101185232_iv1
URL:http://pages.destination.one/de/nordwaerts/streaming/detail/Event/e_101
 185232/f-hrung-auf-dem-lehrpfad-in-riepholm
END:VEVENT
BEGIN:VTIMEZONE
TZID:Europe/Berlin
X-LIC-LOCATION:Europe/Berlin
BEGIN:DAYLIGHT
DTSTART:19700329T020000
RRULE:FREQ=YEARLY;BYDAY=-1SU;BYMONTH=3
TZNAME:CEST
TZOFFSETFROM:+0100
TZOFFSETTO:+0200
END:DAYLIGHT
BEGIN:STANDARD
DTSTART:19701025T030000
RRULE:FREQ=YEARLY;BYDAY=-1SU;BYMONTH=10
TZNAME:CET
TZOFFSETFROM:+0200
TZOFFSETTO:+0100
END:STANDARD
END:VTIMEZONE
END:VCALENDAR
