BEGIN:VCALENDAR
VERSION:2.0
PRODID:-//destination.one//NONSGML destination.meta API//DE
X-WR-CALDESC:A calendar powered by destination.meta
X-WR-CALNAME:nordwaerts Kalender via destination.meta
BEGIN:VEVENT
CATEGORIES:Kabarett
DESCRIPTION:\n\nmehr Informationen unter http://pages.destination.one/de/no
 rdwaerts/streaming/detail/Event/e_101186581/kabarett-jess-jochimsen-von-al
 len-guten-geistern
DTEND;TZID=Europe/Berlin:20260508T220000
DTSTAMP:20260420T194349Z
DTSTART;TZID=Europe/Berlin:20260508T200000
GEO:53.108637;9.405509
LOCATION:Auditorium VHS Rotenburg (W.)\, Am Kirchhof 10\, Rotenburg (Wümme)
ORGANIZER;CN=Volkshochschule Rotenburg (W.):mailto:vhs@rotenburg-wuemme.de
SEQUENCE:0
SUMMARY:Kabarett: Jess Jochimsen VON ALLEN GUTEN GEISTERN
UID:e_101186581_iv0
URL:http://pages.destination.one/de/nordwaerts/streaming/detail/Event/e_101
 186581/kabarett-jess-jochimsen-von-allen-guten-geistern
END:VEVENT
BEGIN:VTIMEZONE
TZID:Europe/Berlin
X-LIC-LOCATION:Europe/Berlin
BEGIN:DAYLIGHT
DTSTART:19700329T020000
RRULE:FREQ=YEARLY;BYDAY=-1SU;BYMONTH=3
TZNAME:CEST
TZOFFSETFROM:+0100
TZOFFSETTO:+0200
END:DAYLIGHT
BEGIN:STANDARD
DTSTART:19701025T030000
RRULE:FREQ=YEARLY;BYDAY=-1SU;BYMONTH=10
TZNAME:CET
TZOFFSETFROM:+0200
TZOFFSETTO:+0100
END:STANDARD
END:VTIMEZONE
END:VCALENDAR
