BEGIN:VCALENDAR
VERSION:2.0
PRODID:-//destination.one//NONSGML destination.meta API//DE
X-WR-CALDESC:A calendar powered by destination.meta
X-WR-CALNAME:nordwaerts Kalender via destination.meta
BEGIN:VEVENT
CATEGORIES:Flohmarkt
DESCRIPTION:Der Flohmarkt für die Frau findet auf dem Gelände der Fa. BEST 
 in der Industriestraße 1 statt.\n\nmehr Informationen unter http://pages.d
 estination.one/de/nordwaerts/streaming/detail/Event/e_101188795/flohmarkt-
 f-r-die-frau-in-bremerv-rde
DTEND;TZID=Europe/Berlin:20260307T170000
DTSTAMP:20260422T120933Z
DTSTART;TZID=Europe/Berlin:20260307T140000
GEO:53.496356;9.110005
LOCATION:Gelände bei der Firma Best\, Industriestraße 1\, Bremervörde
SEQUENCE:0
SUMMARY:Flohmarkt für die Frau in Bremervörde
UID:e_101188795_iv0
URL:http://pages.destination.one/de/nordwaerts/streaming/detail/Event/e_101
 188795/flohmarkt-f-r-die-frau-in-bremerv-rde
END:VEVENT
BEGIN:VEVENT
CATEGORIES:Flohmarkt
DESCRIPTION:Der Flohmarkt für die Frau findet auf dem Gelände der Fa. BEST 
 in der Industriestraße 1 statt.\n\nmehr Informationen unter http://pages.d
 estination.one/de/nordwaerts/streaming/detail/Event/e_101188795/flohmarkt-
 f-r-die-frau-in-bremerv-rde
DTEND;TZID=Europe/Berlin:20260905T170000
DTSTAMP:20260422T120933Z
DTSTART;TZID=Europe/Berlin:20260905T140000
GEO:53.496356;9.110005
LOCATION:Gelände bei der Firma Best\, Industriestraße 1\, Bremervörde
SEQUENCE:0
SUMMARY:Flohmarkt für die Frau in Bremervörde
UID:e_101188795_iv1
URL:http://pages.destination.one/de/nordwaerts/streaming/detail/Event/e_101
 188795/flohmarkt-f-r-die-frau-in-bremerv-rde
END:VEVENT
BEGIN:VTIMEZONE
TZID:Europe/Berlin
X-LIC-LOCATION:Europe/Berlin
BEGIN:DAYLIGHT
DTSTART:19700329T020000
RRULE:FREQ=YEARLY;BYDAY=-1SU;BYMONTH=3
TZNAME:CEST
TZOFFSETFROM:+0100
TZOFFSETTO:+0200
END:DAYLIGHT
BEGIN:STANDARD
DTSTART:19701025T030000
RRULE:FREQ=YEARLY;BYDAY=-1SU;BYMONTH=10
TZNAME:CET
TZOFFSETFROM:+0200
TZOFFSETTO:+0100
END:STANDARD
END:VTIMEZONE
END:VCALENDAR
