BEGIN:VCALENDAR
VERSION:2.0
PRODID:-//destination.one//NONSGML destination.meta API//DE
X-WR-CALDESC:A calendar powered by destination.meta
X-WR-CALNAME:nordwaerts Kalender via destination.meta
BEGIN:VEVENT
CATEGORIES:Festival
CATEGORIES:Open Air sonstige
CATEGORIES:Konzert
DESCRIPTION:Bands aus der Region rocken den Dorfplatz in Gnarrenburg für ei
 nen guten Zweck.\n\nmehr Informationen unter http://pages.destination.one/
 de/nordwaerts/streaming/detail/Event/e_101189895/moor4u-festival
DTEND;TZID=Europe/Berlin:20260816T003000
DTSTAMP:20260422T122759Z
DTSTART;TZID=Europe/Berlin:20260815T163000
GEO:53.381276;9.005928
LOCATION:Dorfplatz Gnarrenburg\, Bahnhofstraße \, Gnarrenburg
ORGANIZER;CN=Förderverein des Lions Clubs Bremervörde e.V.:mailto:kontakt@l
 ions-bremervoerde.de
SEQUENCE:0
SUMMARY:MOOR4U-Festival
UID:e_101189895_iv0
URL:http://pages.destination.one/de/nordwaerts/streaming/detail/Event/e_101
 189895/moor4u-festival
END:VEVENT
BEGIN:VTIMEZONE
TZID:Europe/Berlin
X-LIC-LOCATION:Europe/Berlin
BEGIN:DAYLIGHT
DTSTART:19700329T020000
RRULE:FREQ=YEARLY;BYDAY=-1SU;BYMONTH=3
TZNAME:CEST
TZOFFSETFROM:+0100
TZOFFSETTO:+0200
END:DAYLIGHT
BEGIN:STANDARD
DTSTART:19701025T030000
RRULE:FREQ=YEARLY;BYDAY=-1SU;BYMONTH=10
TZNAME:CET
TZOFFSETFROM:+0200
TZOFFSETTO:+0100
END:STANDARD
END:VTIMEZONE
END:VCALENDAR
