BEGIN:VCALENDAR
VERSION:2.0
PRODID:-//destination.one//NONSGML destination.meta API//DE
X-WR-CALDESC:A calendar powered by destination.meta
X-WR-CALNAME:nordwaerts Kalender via destination.meta
BEGIN:VEVENT
CATEGORIES:Wochenmarkt
DESCRIPTION:Frisches Obst\, Fleisch- und Wurstwaren aus freilaufender Tierh
 altung\, Fischspezialitäten gibt es jeden Donnerstag in Sittensen vor dem 
 Rathaus.\n\nmehr Informationen unter http://pages.destination.one/de/nordw
 aerts/streaming/detail/Event/e_101189931/wochenmarkt-in-sittensen
DTEND;TZID=Europe/Berlin:20260122T123000
DTSTAMP:20260422T022033Z
DTSTART;TZID=Europe/Berlin:20260122T080000
GEO:53.277129;9.505935
LOCATION:Samtgemeinde Sittensen\, Am Markt 11 \, Sittensen
ORGANIZER;CN=Samtgemeinde Sittensen:mailto:info@SG.Sittensen.de
RRULE:FREQ=WEEKLY;UNTIL=20260513T103000;BYDAY=TH
SEQUENCE:0
SUMMARY:Wochenmarkt in Sittensen
UID:e_101189931_iv0
URL:http://pages.destination.one/de/nordwaerts/streaming/detail/Event/e_101
 189931/wochenmarkt-in-sittensen
END:VEVENT
BEGIN:VEVENT
CATEGORIES:Wochenmarkt
DESCRIPTION:Frisches Obst\, Fleisch- und Wurstwaren aus freilaufender Tierh
 altung\, Fischspezialitäten gibt es jeden Donnerstag in Sittensen vor dem 
 Rathaus.\n\nmehr Informationen unter http://pages.destination.one/de/nordw
 aerts/streaming/detail/Event/e_101189931/wochenmarkt-in-sittensen
DTEND;TZID=Europe/Berlin:20260521T123000
DTSTAMP:20260422T022033Z
DTSTART;TZID=Europe/Berlin:20260521T080000
GEO:53.277129;9.505935
LOCATION:Samtgemeinde Sittensen\, Am Markt 11 \, Sittensen
ORGANIZER;CN=Samtgemeinde Sittensen:mailto:info@SG.Sittensen.de
RRULE:FREQ=WEEKLY;UNTIL=20261223T113000;BYDAY=TH
SEQUENCE:0
SUMMARY:Wochenmarkt in Sittensen
UID:e_101189931_iv1
URL:http://pages.destination.one/de/nordwaerts/streaming/detail/Event/e_101
 189931/wochenmarkt-in-sittensen
END:VEVENT
BEGIN:VEVENT
CATEGORIES:Wochenmarkt
DESCRIPTION:Frisches Obst\, Fleisch- und Wurstwaren aus freilaufender Tierh
 altung\, Fischspezialitäten gibt es jeden Donnerstag in Sittensen vor dem 
 Rathaus.\n\nmehr Informationen unter http://pages.destination.one/de/nordw
 aerts/streaming/detail/Event/e_101189931/wochenmarkt-in-sittensen
DTEND;TZID=Europe/Berlin:20261231T123000
DTSTAMP:20260422T022033Z
DTSTART;TZID=Europe/Berlin:20261231T080000
GEO:53.277129;9.505935
LOCATION:Samtgemeinde Sittensen\, Am Markt 11 \, Sittensen
ORGANIZER;CN=Samtgemeinde Sittensen:mailto:info@SG.Sittensen.de
RRULE:FREQ=WEEKLY;UNTIL=20270505T103000;BYDAY=TH
SEQUENCE:0
SUMMARY:Wochenmarkt in Sittensen
UID:e_101189931_iv2
URL:http://pages.destination.one/de/nordwaerts/streaming/detail/Event/e_101
 189931/wochenmarkt-in-sittensen
END:VEVENT
BEGIN:VEVENT
CATEGORIES:Wochenmarkt
DESCRIPTION:Frisches Obst\, Fleisch- und Wurstwaren aus freilaufender Tierh
 altung\, Fischspezialitäten gibt es jeden Donnerstag in Sittensen vor dem 
 Rathaus.\n\nmehr Informationen unter http://pages.destination.one/de/nordw
 aerts/streaming/detail/Event/e_101189931/wochenmarkt-in-sittensen
DTEND;TZID=Europe/Berlin:20270513T123000
DTSTAMP:20260422T022033Z
DTSTART;TZID=Europe/Berlin:20270513T080000
GEO:53.277129;9.505935
LOCATION:Samtgemeinde Sittensen\, Am Markt 11 \, Sittensen
ORGANIZER;CN=Samtgemeinde Sittensen:mailto:info@SG.Sittensen.de
RRULE:FREQ=WEEKLY;UNTIL=20280524T103000;BYDAY=TH
SEQUENCE:0
SUMMARY:Wochenmarkt in Sittensen
UID:e_101189931_iv3
URL:http://pages.destination.one/de/nordwaerts/streaming/detail/Event/e_101
 189931/wochenmarkt-in-sittensen
END:VEVENT
BEGIN:VEVENT
CATEGORIES:Wochenmarkt
DESCRIPTION:Frisches Obst\, Fleisch- und Wurstwaren aus freilaufender Tierh
 altung\, Fischspezialitäten gibt es jeden Donnerstag in Sittensen vor dem 
 Rathaus.\n\nmehr Informationen unter http://pages.destination.one/de/nordw
 aerts/streaming/detail/Event/e_101189931/wochenmarkt-in-sittensen
DTEND;TZID=Europe/Berlin:20280601T123000
DTSTAMP:20260422T022033Z
DTSTART;TZID=Europe/Berlin:20280601T080000
GEO:53.277129;9.505935
LOCATION:Samtgemeinde Sittensen\, Am Markt 11 \, Sittensen
ORGANIZER;CN=Samtgemeinde Sittensen:mailto:info@SG.Sittensen.de
RRULE:FREQ=WEEKLY;BYDAY=TH
SEQUENCE:0
SUMMARY:Wochenmarkt in Sittensen
UID:e_101189931_iv4
URL:http://pages.destination.one/de/nordwaerts/streaming/detail/Event/e_101
 189931/wochenmarkt-in-sittensen
END:VEVENT
BEGIN:VTIMEZONE
TZID:Europe/Berlin
X-LIC-LOCATION:Europe/Berlin
BEGIN:DAYLIGHT
DTSTART:19700329T020000
RRULE:FREQ=YEARLY;BYDAY=-1SU;BYMONTH=3
TZNAME:CEST
TZOFFSETFROM:+0100
TZOFFSETTO:+0200
END:DAYLIGHT
BEGIN:STANDARD
DTSTART:19701025T030000
RRULE:FREQ=YEARLY;BYDAY=-1SU;BYMONTH=10
TZNAME:CET
TZOFFSETFROM:+0200
TZOFFSETTO:+0100
END:STANDARD
END:VTIMEZONE
END:VCALENDAR
