BEGIN:VCALENDAR
VERSION:2.0
PRODID:-//destination.one//NONSGML destination.meta API//DE
X-WR-CALDESC:A calendar powered by destination.meta
X-WR-CALNAME:nordwaerts Kalender via destination.meta
BEGIN:VEVENT
CATEGORIES:Herbstmarkt
CATEGORIES:Familien/Kinder sonstige
CATEGORIES:Jahrmarkt
DESCRIPTION:Der Dorfplatz Gnarrenburgs verwandelt sich für drei Tage zum He
 rbstmarktplatz mit Fahrgeschäften\, Puppentheater\, Imbissbuden\, Festzelt
 ...\n\nmehr Informationen unter http://pages.destination.one/de/nordwaerts
 /streaming/detail/Event/e_101189963/gnarrenburger-herbstmarkt
DTEND;TZID=Europe/Berlin:20261016T220000
DTSTAMP:20260423T102129Z
DTSTART;TZID=Europe/Berlin:20261016T150000
GEO:53.381276;9.005928
LOCATION:Dorfplatz Gnarrenburg\, Bahnhofstraße \, Gnarrenburg
ORGANIZER;CN=Gemeinde Gnarrenburg:mailto:rathaus@gnarrenburg.de
SEQUENCE:0
SUMMARY:Gnarrenburger Herbstmarkt
UID:e_101189963_iv0
URL:http://pages.destination.one/de/nordwaerts/streaming/detail/Event/e_101
 189963/gnarrenburger-herbstmarkt
END:VEVENT
BEGIN:VTIMEZONE
TZID:Europe/Berlin
X-LIC-LOCATION:Europe/Berlin
BEGIN:DAYLIGHT
DTSTART:19700329T020000
RRULE:FREQ=YEARLY;BYDAY=-1SU;BYMONTH=3
TZNAME:CEST
TZOFFSETFROM:+0100
TZOFFSETTO:+0200
END:DAYLIGHT
BEGIN:STANDARD
DTSTART:19701025T030000
RRULE:FREQ=YEARLY;BYDAY=-1SU;BYMONTH=10
TZNAME:CET
TZOFFSETFROM:+0200
TZOFFSETTO:+0100
END:STANDARD
END:VTIMEZONE
END:VCALENDAR
