BEGIN:VCALENDAR
VERSION:2.0
PRODID:-//destination.one//NONSGML destination.meta API//DE
X-WR-CALDESC:A calendar powered by destination.meta
X-WR-CALNAME:nordwaerts Kalender via destination.meta
BEGIN:VEVENT
CATEGORIES:Weihnachtsmarkt
CATEGORIES:Jahrmarkt
CATEGORIES:Familien/Kinder sonstige
DESCRIPTION:Vorweihnachtliche Stimmung im Zentrum der Gemeinde Gnarrenburg.
 \n\nmehr Informationen unter http://pages.destination.one/de/nordwaerts/st
 reaming/detail/Event/e_101190010/weihnachtsmarkt-in-der-gemeinde-gnarrenbu
 rg
DTEND;TZID=Europe/Berlin:20261206T190000
DTSTAMP:20260422T091924Z
DTSTART;TZID=Europe/Berlin:20261205T140000
GEO:53.381276;9.005928
LOCATION:Dorfplatz Gnarrenburg\, Bahnhofstraße \, Gnarrenburg
ORGANIZER;CN=WIR Gnarrenburg e. V.:mailto:wirgnarrenburg@yahoo.de
RRULE:FREQ=DAILY;UNTIL=20261205T180000
SEQUENCE:0
SUMMARY:Weihnachtsmarkt  in der Gemeinde Gnarrenburg
UID:e_101190010_iv0
URL:http://pages.destination.one/de/nordwaerts/streaming/detail/Event/e_101
 190010/weihnachtsmarkt-in-der-gemeinde-gnarrenburg
END:VEVENT
BEGIN:VTIMEZONE
TZID:Europe/Berlin
X-LIC-LOCATION:Europe/Berlin
BEGIN:DAYLIGHT
DTSTART:19700329T020000
RRULE:FREQ=YEARLY;BYDAY=-1SU;BYMONTH=3
TZNAME:CEST
TZOFFSETFROM:+0100
TZOFFSETTO:+0200
END:DAYLIGHT
BEGIN:STANDARD
DTSTART:19701025T030000
RRULE:FREQ=YEARLY;BYDAY=-1SU;BYMONTH=10
TZNAME:CET
TZOFFSETFROM:+0200
TZOFFSETTO:+0100
END:STANDARD
END:VTIMEZONE
END:VCALENDAR
