BEGIN:VCALENDAR
VERSION:2.0
PRODID:-//destination.one//NONSGML destination.meta API//DE
X-WR-CALDESC:A calendar powered by destination.meta
X-WR-CALNAME:nordwaerts Kalender via destination.meta
BEGIN:VEVENT
CATEGORIES:Stadtteilfest
DESCRIPTION:Das Fest für die ganze Familie im Gewerbegebiet.\n\nmehr Inform
 ationen unter http://pages.destination.one/de/nordwaerts/streaming/detail/
 Event/e_101198568/v-rdeworx-in-bremerv-rde
DTEND;TZID=Europe/Berlin:20260510T180000
DTSTAMP:20260422T134320Z
DTSTART;TZID=Europe/Berlin:20260510T100000
GEO:53.497698;9.111459
LOCATION:Gewerbering\, Gewerbering \, Bremervörde
SEQUENCE:0
SUMMARY:Vördeworx in Bremervörde
UID:e_101198568_iv0
URL:http://pages.destination.one/de/nordwaerts/streaming/detail/Event/e_101
 198568/v-rdeworx-in-bremerv-rde
END:VEVENT
BEGIN:VTIMEZONE
TZID:Europe/Berlin
X-LIC-LOCATION:Europe/Berlin
BEGIN:DAYLIGHT
DTSTART:19700329T020000
RRULE:FREQ=YEARLY;BYDAY=-1SU;BYMONTH=3
TZNAME:CEST
TZOFFSETFROM:+0100
TZOFFSETTO:+0200
END:DAYLIGHT
BEGIN:STANDARD
DTSTART:19701025T030000
RRULE:FREQ=YEARLY;BYDAY=-1SU;BYMONTH=10
TZNAME:CET
TZOFFSETFROM:+0200
TZOFFSETTO:+0100
END:STANDARD
END:VTIMEZONE
END:VCALENDAR
