BEGIN:VCALENDAR
VERSION:2.0
PRODID:-//destination.one//NONSGML destination.meta API//DE
X-WR-CALDESC:A calendar powered by destination.meta
X-WR-CALNAME:nordwaerts Kalender via destination.meta
BEGIN:VEVENT
CATEGORIES:Tag der offenen Tür
DESCRIPTION:Ein Paradies für Amphibien und Insekten\n\nmehr Informationen u
 nter http://pages.destination.one/de/nordwaerts/streaming/detail/Event/e_1
 01225009/garten-ffnung-naturgarten-radtke
DTEND;TZID=Europe/Berlin:20260531T180000
DTSTAMP:20260422T032737Z
DTSTART;TZID=Europe/Berlin:20260531T140000
GEO:53.116950;9.410388
LOCATION:Naturgarten Radtke\, Am Kamp 31\, Rotenburg (Wümme)
ORGANIZER;CN=Naturgarten Radtke:mailto:m.radtke@web.de
SEQUENCE:0
SUMMARY:Gartenöffnung Naturgarten Radtke
UID:e_101225009_iv0
URL:http://pages.destination.one/de/nordwaerts/streaming/detail/Event/e_101
 225009/garten-ffnung-naturgarten-radtke
END:VEVENT
BEGIN:VTIMEZONE
TZID:Europe/Berlin
X-LIC-LOCATION:Europe/Berlin
BEGIN:DAYLIGHT
DTSTART:19700329T020000
RRULE:FREQ=YEARLY;BYDAY=-1SU;BYMONTH=3
TZNAME:CEST
TZOFFSETFROM:+0100
TZOFFSETTO:+0200
END:DAYLIGHT
BEGIN:STANDARD
DTSTART:19701025T030000
RRULE:FREQ=YEARLY;BYDAY=-1SU;BYMONTH=10
TZNAME:CET
TZOFFSETFROM:+0200
TZOFFSETTO:+0100
END:STANDARD
END:VTIMEZONE
END:VCALENDAR
