BEGIN:VCALENDAR
VERSION:2.0
PRODID:-//destination.one//NONSGML destination.meta API//DE
X-WR-CALDESC:A calendar powered by destination.meta
X-WR-CALNAME:nordwaerts Kalender via destination.meta
BEGIN:VEVENT
CATEGORIES:Tag der offenen Tür
DESCRIPTION:Naturnaher Stadtgarten\n\nmehr Informationen unter http://pages
 .destination.one/de/nordwaerts/streaming/detail/Event/e_101225067/garten-f
 fnung-lady-buttercups-world
DTEND;TZID=Europe/Berlin:20260614T180000
DTSTAMP:20260422T052519Z
DTSTART;TZID=Europe/Berlin:20260614T110000
GEO:53.105003;9.419869
LOCATION:Lady Buttercups World\, Tannenbergstr. 20\, Rotenburg (Wümme)
ORGANIZER;CN=Lady Buttercups World:mailto:joanna-peppino@t-online.de
SEQUENCE:0
SUMMARY:Gartenöffnung Lady Buttercups World
UID:e_101225067_iv0
URL:http://pages.destination.one/de/nordwaerts/streaming/detail/Event/e_101
 225067/garten-ffnung-lady-buttercups-world
END:VEVENT
BEGIN:VEVENT
CATEGORIES:Tag der offenen Tür
DESCRIPTION:Naturnaher Stadtgarten\n\nmehr Informationen unter http://pages
 .destination.one/de/nordwaerts/streaming/detail/Event/e_101225067/garten-f
 fnung-lady-buttercups-world
DTEND;TZID=Europe/Berlin:20260719T180000
DTSTAMP:20260422T052519Z
DTSTART;TZID=Europe/Berlin:20260719T110000
GEO:53.105003;9.419869
LOCATION:Lady Buttercups World\, Tannenbergstr. 20\, Rotenburg (Wümme)
ORGANIZER;CN=Lady Buttercups World:mailto:joanna-peppino@t-online.de
SEQUENCE:0
SUMMARY:Gartenöffnung Lady Buttercups World
UID:e_101225067_iv1
URL:http://pages.destination.one/de/nordwaerts/streaming/detail/Event/e_101
 225067/garten-ffnung-lady-buttercups-world
END:VEVENT
BEGIN:VEVENT
CATEGORIES:Tag der offenen Tür
DESCRIPTION:Naturnaher Stadtgarten\n\nmehr Informationen unter http://pages
 .destination.one/de/nordwaerts/streaming/detail/Event/e_101225067/garten-f
 fnung-lady-buttercups-world
DTEND;TZID=Europe/Berlin:20260816T180000
DTSTAMP:20260422T052519Z
DTSTART;TZID=Europe/Berlin:20260816T110000
GEO:53.105003;9.419869
LOCATION:Lady Buttercups World\, Tannenbergstr. 20\, Rotenburg (Wümme)
ORGANIZER;CN=Lady Buttercups World:mailto:joanna-peppino@t-online.de
SEQUENCE:0
SUMMARY:Gartenöffnung Lady Buttercups World
UID:e_101225067_iv2
URL:http://pages.destination.one/de/nordwaerts/streaming/detail/Event/e_101
 225067/garten-ffnung-lady-buttercups-world
END:VEVENT
BEGIN:VTIMEZONE
TZID:Europe/Berlin
X-LIC-LOCATION:Europe/Berlin
BEGIN:DAYLIGHT
DTSTART:19700329T020000
RRULE:FREQ=YEARLY;BYDAY=-1SU;BYMONTH=3
TZNAME:CEST
TZOFFSETFROM:+0100
TZOFFSETTO:+0200
END:DAYLIGHT
BEGIN:STANDARD
DTSTART:19701025T030000
RRULE:FREQ=YEARLY;BYDAY=-1SU;BYMONTH=10
TZNAME:CET
TZOFFSETFROM:+0200
TZOFFSETTO:+0100
END:STANDARD
END:VTIMEZONE
END:VCALENDAR
