BEGIN:VCALENDAR
VERSION:2.0
PRODID:-//destination.one//NONSGML destination.meta API//DE
X-WR-CALDESC:A calendar powered by destination.meta
X-WR-CALNAME:nordwaerts Kalender via destination.meta
BEGIN:VEVENT
CATEGORIES:Tag der offenen Tür
DESCRIPTION:Gartenoase: Kreatives und exklusive Karnivoren\n\nmehr Informat
 ionen unter http://pages.destination.one/de/nordwaerts/streaming/detail/Ev
 ent/e_101225110/garten-ffnung-gartenoase-behrendt
DTEND;TZID=Europe/Berlin:20260614T170000
DTSTAMP:20260422T034259Z
DTSTART;TZID=Europe/Berlin:20260614T110000
GEO:53.107597;9.414911
LOCATION:Gartenoase Behrendt\, Ruetestraße 13\, Rotenburg (Wümme)
ORGANIZER;CN=Gartenoase Behrendt:mailto:marco_inc@gmx.de
SEQUENCE:0
SUMMARY:Gartenöffnung Gartenoase Behrendt
UID:e_101225110_iv0
URL:http://pages.destination.one/de/nordwaerts/streaming/detail/Event/e_101
 225110/garten-ffnung-gartenoase-behrendt
END:VEVENT
BEGIN:VEVENT
CATEGORIES:Tag der offenen Tür
DESCRIPTION:Gartenoase: Kreatives und exklusive Karnivoren\n\nmehr Informat
 ionen unter http://pages.destination.one/de/nordwaerts/streaming/detail/Ev
 ent/e_101225110/garten-ffnung-gartenoase-behrendt
DTEND;TZID=Europe/Berlin:20260816T170000
DTSTAMP:20260422T034259Z
DTSTART;TZID=Europe/Berlin:20260816T110000
GEO:53.107597;9.414911
LOCATION:Gartenoase Behrendt\, Ruetestraße 13\, Rotenburg (Wümme)
ORGANIZER;CN=Gartenoase Behrendt:mailto:marco_inc@gmx.de
SEQUENCE:0
SUMMARY:Gartenöffnung Gartenoase Behrendt
UID:e_101225110_iv1
URL:http://pages.destination.one/de/nordwaerts/streaming/detail/Event/e_101
 225110/garten-ffnung-gartenoase-behrendt
END:VEVENT
BEGIN:VTIMEZONE
TZID:Europe/Berlin
X-LIC-LOCATION:Europe/Berlin
BEGIN:DAYLIGHT
DTSTART:19700329T020000
RRULE:FREQ=YEARLY;BYDAY=-1SU;BYMONTH=3
TZNAME:CEST
TZOFFSETFROM:+0100
TZOFFSETTO:+0200
END:DAYLIGHT
BEGIN:STANDARD
DTSTART:19701025T030000
RRULE:FREQ=YEARLY;BYDAY=-1SU;BYMONTH=10
TZNAME:CET
TZOFFSETFROM:+0200
TZOFFSETTO:+0100
END:STANDARD
END:VTIMEZONE
END:VCALENDAR
