BEGIN:VCALENDAR
VERSION:2.0
PRODID:-//destination.one//NONSGML destination.meta API//DE
X-WR-CALDESC:A calendar powered by destination.meta
X-WR-CALNAME:nordwaerts Kalender via destination.meta
BEGIN:VEVENT
CATEGORIES:Ausstellung
DESCRIPTION:\n\nmehr Informationen unter http://pages.destination.one/de/no
 rdwaerts/streaming/detail/Event/e_101225219/tanja-hehmann-hamburg-newbegin
 nings
DTEND;TZID=Europe/Berlin:20260320T235900
DTSTAMP:20260422T051841Z
DTSTART;TZID=Europe/Berlin:20260320T190000
GEO:53.113638;9.400907
LOCATION:Kunstverein Rotenburg e.V.\, Nödenstr. 9\, Rotenburg (Wümme)
SEQUENCE:0
SUMMARY:Tanja Hehmann\, Hamburg "NEWBEGINNINGS"
UID:e_101225219_iv0
URL:http://pages.destination.one/de/nordwaerts/streaming/detail/Event/e_101
 225219/tanja-hehmann-hamburg-newbeginnings
END:VEVENT
BEGIN:VEVENT
CATEGORIES:Ausstellung
DESCRIPTION:\n\nmehr Informationen unter http://pages.destination.one/de/no
 rdwaerts/streaming/detail/Event/e_101225219/tanja-hehmann-hamburg-newbegin
 nings
DTEND;TZID=Europe/Berlin:20260321T170000
DTSTAMP:20260422T051841Z
DTSTART;TZID=Europe/Berlin:20260321T140000
GEO:53.113638;9.400907
LOCATION:Kunstverein Rotenburg e.V.\, Nödenstr. 9\, Rotenburg (Wümme)
RRULE:FREQ=WEEKLY;UNTIL=20260326T130000;BYDAY=SA,SU
SEQUENCE:0
SUMMARY:Tanja Hehmann\, Hamburg "NEWBEGINNINGS"
UID:e_101225219_iv1
URL:http://pages.destination.one/de/nordwaerts/streaming/detail/Event/e_101
 225219/tanja-hehmann-hamburg-newbeginnings
END:VEVENT
BEGIN:VEVENT
CATEGORIES:Ausstellung
DESCRIPTION:\n\nmehr Informationen unter http://pages.destination.one/de/no
 rdwaerts/streaming/detail/Event/e_101225219/tanja-hehmann-hamburg-newbegin
 nings
DTEND;TZID=Europe/Berlin:20260322T170000
DTSTAMP:20260422T051841Z
DTSTART;TZID=Europe/Berlin:20260322T110000
GEO:53.113638;9.400907
LOCATION:Kunstverein Rotenburg e.V.\, Nödenstr. 9\, Rotenburg (Wümme)
SEQUENCE:0
SUMMARY:Tanja Hehmann\, Hamburg "NEWBEGINNINGS"
UID:e_101225219_iv2
URL:http://pages.destination.one/de/nordwaerts/streaming/detail/Event/e_101
 225219/tanja-hehmann-hamburg-newbeginnings
END:VEVENT
BEGIN:VEVENT
CATEGORIES:Ausstellung
DESCRIPTION:\n\nmehr Informationen unter http://pages.destination.one/de/no
 rdwaerts/streaming/detail/Event/e_101225219/tanja-hehmann-hamburg-newbegin
 nings
DTEND;TZID=Europe/Berlin:20260328T170000
DTSTAMP:20260422T051841Z
DTSTART;TZID=Europe/Berlin:20260328T140000
GEO:53.113638;9.400907
LOCATION:Kunstverein Rotenburg e.V.\, Nödenstr. 9\, Rotenburg (Wümme)
RRULE:FREQ=WEEKLY;UNTIL=20260426T120000;BYDAY=SA,SU
SEQUENCE:0
SUMMARY:Tanja Hehmann\, Hamburg "NEWBEGINNINGS"
UID:e_101225219_iv3
URL:http://pages.destination.one/de/nordwaerts/streaming/detail/Event/e_101
 225219/tanja-hehmann-hamburg-newbeginnings
END:VEVENT
BEGIN:VEVENT
CATEGORIES:Ausstellung
DESCRIPTION:\n\nmehr Informationen unter http://pages.destination.one/de/no
 rdwaerts/streaming/detail/Event/e_101225219/tanja-hehmann-hamburg-newbegin
 nings
DTEND;TZID=Europe/Berlin:20260329T170000
DTSTAMP:20260422T051841Z
DTSTART;TZID=Europe/Berlin:20260329T110000
GEO:53.113638;9.400907
LOCATION:Kunstverein Rotenburg e.V.\, Nödenstr. 9\, Rotenburg (Wümme)
SEQUENCE:0
SUMMARY:Tanja Hehmann\, Hamburg "NEWBEGINNINGS"
UID:e_101225219_iv4
URL:http://pages.destination.one/de/nordwaerts/streaming/detail/Event/e_101
 225219/tanja-hehmann-hamburg-newbeginnings
END:VEVENT
BEGIN:VEVENT
CATEGORIES:Ausstellung
DESCRIPTION:\n\nmehr Informationen unter http://pages.destination.one/de/no
 rdwaerts/streaming/detail/Event/e_101225219/tanja-hehmann-hamburg-newbegin
 nings
DTEND;TZID=Europe/Berlin:20260404T170000
DTSTAMP:20260422T051841Z
DTSTART;TZID=Europe/Berlin:20260404T140000
GEO:53.113638;9.400907
LOCATION:Kunstverein Rotenburg e.V.\, Nödenstr. 9\, Rotenburg (Wümme)
SEQUENCE:0
SUMMARY:Tanja Hehmann\, Hamburg "NEWBEGINNINGS"
UID:e_101225219_iv5
URL:http://pages.destination.one/de/nordwaerts/streaming/detail/Event/e_101
 225219/tanja-hehmann-hamburg-newbeginnings
END:VEVENT
BEGIN:VEVENT
CATEGORIES:Ausstellung
DESCRIPTION:\n\nmehr Informationen unter http://pages.destination.one/de/no
 rdwaerts/streaming/detail/Event/e_101225219/tanja-hehmann-hamburg-newbegin
 nings
DTEND;TZID=Europe/Berlin:20260405T170000
DTSTAMP:20260422T051841Z
DTSTART;TZID=Europe/Berlin:20260405T110000
GEO:53.113638;9.400907
LOCATION:Kunstverein Rotenburg e.V.\, Nödenstr. 9\, Rotenburg (Wümme)
SEQUENCE:0
SUMMARY:Tanja Hehmann\, Hamburg "NEWBEGINNINGS"
UID:e_101225219_iv6
URL:http://pages.destination.one/de/nordwaerts/streaming/detail/Event/e_101
 225219/tanja-hehmann-hamburg-newbeginnings
END:VEVENT
BEGIN:VEVENT
CATEGORIES:Ausstellung
DESCRIPTION:\n\nmehr Informationen unter http://pages.destination.one/de/no
 rdwaerts/streaming/detail/Event/e_101225219/tanja-hehmann-hamburg-newbegin
 nings
DTEND;TZID=Europe/Berlin:20260411T170000
DTSTAMP:20260422T051841Z
DTSTART;TZID=Europe/Berlin:20260411T140000
GEO:53.113638;9.400907
LOCATION:Kunstverein Rotenburg e.V.\, Nödenstr. 9\, Rotenburg (Wümme)
SEQUENCE:0
SUMMARY:Tanja Hehmann\, Hamburg "NEWBEGINNINGS"
UID:e_101225219_iv7
URL:http://pages.destination.one/de/nordwaerts/streaming/detail/Event/e_101
 225219/tanja-hehmann-hamburg-newbeginnings
END:VEVENT
BEGIN:VEVENT
CATEGORIES:Ausstellung
DESCRIPTION:\n\nmehr Informationen unter http://pages.destination.one/de/no
 rdwaerts/streaming/detail/Event/e_101225219/tanja-hehmann-hamburg-newbegin
 nings
DTEND;TZID=Europe/Berlin:20260412T170000
DTSTAMP:20260422T051841Z
DTSTART;TZID=Europe/Berlin:20260412T110000
GEO:53.113638;9.400907
LOCATION:Kunstverein Rotenburg e.V.\, Nödenstr. 9\, Rotenburg (Wümme)
SEQUENCE:0
SUMMARY:Tanja Hehmann\, Hamburg "NEWBEGINNINGS"
UID:e_101225219_iv8
URL:http://pages.destination.one/de/nordwaerts/streaming/detail/Event/e_101
 225219/tanja-hehmann-hamburg-newbeginnings
END:VEVENT
BEGIN:VEVENT
CATEGORIES:Ausstellung
DESCRIPTION:\n\nmehr Informationen unter http://pages.destination.one/de/no
 rdwaerts/streaming/detail/Event/e_101225219/tanja-hehmann-hamburg-newbegin
 nings
DTEND;TZID=Europe/Berlin:20260418T170000
DTSTAMP:20260422T051841Z
DTSTART;TZID=Europe/Berlin:20260418T140000
GEO:53.113638;9.400907
LOCATION:Kunstverein Rotenburg e.V.\, Nödenstr. 9\, Rotenburg (Wümme)
SEQUENCE:0
SUMMARY:Tanja Hehmann\, Hamburg "NEWBEGINNINGS"
UID:e_101225219_iv9
URL:http://pages.destination.one/de/nordwaerts/streaming/detail/Event/e_101
 225219/tanja-hehmann-hamburg-newbeginnings
END:VEVENT
BEGIN:VEVENT
CATEGORIES:Ausstellung
DESCRIPTION:\n\nmehr Informationen unter http://pages.destination.one/de/no
 rdwaerts/streaming/detail/Event/e_101225219/tanja-hehmann-hamburg-newbegin
 nings
DTEND;TZID=Europe/Berlin:20260419T170000
DTSTAMP:20260422T051841Z
DTSTART;TZID=Europe/Berlin:20260419T110000
GEO:53.113638;9.400907
LOCATION:Kunstverein Rotenburg e.V.\, Nödenstr. 9\, Rotenburg (Wümme)
SEQUENCE:0
SUMMARY:Tanja Hehmann\, Hamburg "NEWBEGINNINGS"
UID:e_101225219_iv10
URL:http://pages.destination.one/de/nordwaerts/streaming/detail/Event/e_101
 225219/tanja-hehmann-hamburg-newbeginnings
END:VEVENT
BEGIN:VEVENT
CATEGORIES:Ausstellung
DESCRIPTION:\n\nmehr Informationen unter http://pages.destination.one/de/no
 rdwaerts/streaming/detail/Event/e_101225219/tanja-hehmann-hamburg-newbegin
 nings
DTEND;TZID=Europe/Berlin:20260425T170000
DTSTAMP:20260422T051841Z
DTSTART;TZID=Europe/Berlin:20260425T140000
GEO:53.113638;9.400907
LOCATION:Kunstverein Rotenburg e.V.\, Nödenstr. 9\, Rotenburg (Wümme)
SEQUENCE:0
SUMMARY:Tanja Hehmann\, Hamburg "NEWBEGINNINGS"
UID:e_101225219_iv11
URL:http://pages.destination.one/de/nordwaerts/streaming/detail/Event/e_101
 225219/tanja-hehmann-hamburg-newbeginnings
END:VEVENT
BEGIN:VEVENT
CATEGORIES:Ausstellung
DESCRIPTION:\n\nmehr Informationen unter http://pages.destination.one/de/no
 rdwaerts/streaming/detail/Event/e_101225219/tanja-hehmann-hamburg-newbegin
 nings
DTEND;TZID=Europe/Berlin:20260426T170000
DTSTAMP:20260422T051841Z
DTSTART;TZID=Europe/Berlin:20260426T110000
GEO:53.113638;9.400907
LOCATION:Kunstverein Rotenburg e.V.\, Nödenstr. 9\, Rotenburg (Wümme)
SEQUENCE:0
SUMMARY:Tanja Hehmann\, Hamburg "NEWBEGINNINGS"
UID:e_101225219_iv12
URL:http://pages.destination.one/de/nordwaerts/streaming/detail/Event/e_101
 225219/tanja-hehmann-hamburg-newbeginnings
END:VEVENT
BEGIN:VTIMEZONE
TZID:Europe/Berlin
X-LIC-LOCATION:Europe/Berlin
BEGIN:DAYLIGHT
DTSTART:19700329T020000
RRULE:FREQ=YEARLY;BYDAY=-1SU;BYMONTH=3
TZNAME:CEST
TZOFFSETFROM:+0100
TZOFFSETTO:+0200
END:DAYLIGHT
BEGIN:STANDARD
DTSTART:19701025T030000
RRULE:FREQ=YEARLY;BYDAY=-1SU;BYMONTH=10
TZNAME:CET
TZOFFSETFROM:+0200
TZOFFSETTO:+0100
END:STANDARD
END:VTIMEZONE
END:VCALENDAR
