BEGIN:VCALENDAR
VERSION:2.0
PRODID:-//destination.one//NONSGML destination.meta API//DE
X-WR-CALDESC:A calendar powered by destination.meta
X-WR-CALNAME:nordwaerts Kalender via destination.meta
BEGIN:VEVENT
CATEGORIES:Tag der offenen Tür
DESCRIPTION:Dieser Stadtgarten ist ein Kleinod und Ort der Entspannung mitt
 en in Rotenburg (Wümme)\n\nmehr Informationen unter http://pages.destinati
 on.one/de/nordwaerts/streaming/detail/Event/e_101225224/garten-ffnung-gart
 en-am-rudolf-sch-fer-haus
DTEND;TZID=Europe/Berlin:20260306T170000
DTSTAMP:20260422T014621Z
DTSTART;TZID=Europe/Berlin:20260306T150000
GEO:53.111995;9.412334
LOCATION:Garten am Rudolf-Schäfer-Haus\, Große Straße 15\, Rotenburg (Wümme
 )
ORGANIZER;CN=Garten am Rudolf-Schäfer-Haus:mailto:Dr.C.u.J.Looks@t-online.d
 e
RRULE:FREQ=WEEKLY;BYDAY=WE
SEQUENCE:0
SUMMARY:Gartenöffnung Garten am Rudolf-Schäfer-Haus
UID:e_101225224_iv0
URL:http://pages.destination.one/de/nordwaerts/streaming/detail/Event/e_101
 225224/garten-ffnung-garten-am-rudolf-sch-fer-haus
END:VEVENT
BEGIN:VEVENT
CATEGORIES:Tag der offenen Tür
DESCRIPTION:Dieser Stadtgarten ist ein Kleinod und Ort der Entspannung mitt
 en in Rotenburg (Wümme)\n\nmehr Informationen unter http://pages.destinati
 on.one/de/nordwaerts/streaming/detail/Event/e_101225224/garten-ffnung-gart
 en-am-rudolf-sch-fer-haus
DTEND;TZID=Europe/Berlin:20260314T123000
DTSTAMP:20260422T014621Z
DTSTART;TZID=Europe/Berlin:20260314T100000
GEO:53.111995;9.412334
LOCATION:Garten am Rudolf-Schäfer-Haus\, Große Straße 15\, Rotenburg (Wümme
 )
ORGANIZER;CN=Garten am Rudolf-Schäfer-Haus:mailto:Dr.C.u.J.Looks@t-online.d
 e
RRULE:FREQ=WEEKLY;BYDAY=SA
SEQUENCE:0
SUMMARY:Gartenöffnung Garten am Rudolf-Schäfer-Haus
UID:e_101225224_iv1
URL:http://pages.destination.one/de/nordwaerts/streaming/detail/Event/e_101
 225224/garten-ffnung-garten-am-rudolf-sch-fer-haus
END:VEVENT
BEGIN:VTIMEZONE
TZID:Europe/Berlin
X-LIC-LOCATION:Europe/Berlin
BEGIN:DAYLIGHT
DTSTART:19700329T020000
RRULE:FREQ=YEARLY;BYDAY=-1SU;BYMONTH=3
TZNAME:CEST
TZOFFSETFROM:+0100
TZOFFSETTO:+0200
END:DAYLIGHT
BEGIN:STANDARD
DTSTART:19701025T030000
RRULE:FREQ=YEARLY;BYDAY=-1SU;BYMONTH=10
TZNAME:CET
TZOFFSETFROM:+0200
TZOFFSETTO:+0100
END:STANDARD
END:VTIMEZONE
END:VCALENDAR
