BEGIN:VCALENDAR
VERSION:2.0
PRODID:-//destination.one//NONSGML destination.meta API//DE
X-WR-CALDESC:A calendar powered by destination.meta
X-WR-CALNAME:nordwaerts Kalender via destination.meta
BEGIN:VEVENT
CATEGORIES:Ausstellung
DESCRIPTION:\n\nmehr Informationen unter http://pages.destination.one/de/no
 rdwaerts/streaming/detail/Event/e_101225257/junge-positionen-studierende-d
 er-hfk-bemen-hendrik-cordes-simoan-wohlgemuth-merle-tatoli-gestalten-gesta
 lten
DTEND;TZID=Europe/Berlin:20260626T235900
DTSTAMP:20260422T050713Z
DTSTART;TZID=Europe/Berlin:20260626T190000
GEO:53.113638;9.400907
LOCATION:Kunstverein Rotenburg e.V.\, Nödenstr. 9\, Rotenburg (Wümme)
ORGANIZER;CN=Kunstverein Rotenburg e.V.:mailto:info@kunstverein-row.de
SEQUENCE:0
SUMMARY:"Junge Positionen" - Studierende der HFK Bemen\, Hendrik Cordes\, S
 imoan Wohlgemuth\, Merle Tatoli "Gestalten gestalten"
UID:e_101225257_iv0
URL:http://pages.destination.one/de/nordwaerts/streaming/detail/Event/e_101
 225257/junge-positionen-studierende-der-hfk-bemen-hendrik-cordes-simoan-wo
 hlgemuth-merle-tatoli-gestalten-gestalten
END:VEVENT
BEGIN:VEVENT
CATEGORIES:Ausstellung
DESCRIPTION:\n\nmehr Informationen unter http://pages.destination.one/de/no
 rdwaerts/streaming/detail/Event/e_101225257/junge-positionen-studierende-d
 er-hfk-bemen-hendrik-cordes-simoan-wohlgemuth-merle-tatoli-gestalten-gesta
 lten
DTEND;TZID=Europe/Berlin:20260627T170000
DTSTAMP:20260422T050713Z
DTSTART;TZID=Europe/Berlin:20260627T140000
GEO:53.113638;9.400907
LOCATION:Kunstverein Rotenburg e.V.\, Nödenstr. 9\, Rotenburg (Wümme)
ORGANIZER;CN=Kunstverein Rotenburg e.V.:mailto:info@kunstverein-row.de
SEQUENCE:0
SUMMARY:"Junge Positionen" - Studierende der HFK Bemen\, Hendrik Cordes\, S
 imoan Wohlgemuth\, Merle Tatoli "Gestalten gestalten"
UID:e_101225257_iv1
URL:http://pages.destination.one/de/nordwaerts/streaming/detail/Event/e_101
 225257/junge-positionen-studierende-der-hfk-bemen-hendrik-cordes-simoan-wo
 hlgemuth-merle-tatoli-gestalten-gestalten
END:VEVENT
BEGIN:VEVENT
CATEGORIES:Ausstellung
DESCRIPTION:\n\nmehr Informationen unter http://pages.destination.one/de/no
 rdwaerts/streaming/detail/Event/e_101225257/junge-positionen-studierende-d
 er-hfk-bemen-hendrik-cordes-simoan-wohlgemuth-merle-tatoli-gestalten-gesta
 lten
DTEND;TZID=Europe/Berlin:20260628T170000
DTSTAMP:20260422T050713Z
DTSTART;TZID=Europe/Berlin:20260628T110000
GEO:53.113638;9.400907
LOCATION:Kunstverein Rotenburg e.V.\, Nödenstr. 9\, Rotenburg (Wümme)
ORGANIZER;CN=Kunstverein Rotenburg e.V.:mailto:info@kunstverein-row.de
SEQUENCE:0
SUMMARY:"Junge Positionen" - Studierende der HFK Bemen\, Hendrik Cordes\, S
 imoan Wohlgemuth\, Merle Tatoli "Gestalten gestalten"
UID:e_101225257_iv2
URL:http://pages.destination.one/de/nordwaerts/streaming/detail/Event/e_101
 225257/junge-positionen-studierende-der-hfk-bemen-hendrik-cordes-simoan-wo
 hlgemuth-merle-tatoli-gestalten-gestalten
END:VEVENT
BEGIN:VEVENT
CATEGORIES:Ausstellung
DESCRIPTION:\n\nmehr Informationen unter http://pages.destination.one/de/no
 rdwaerts/streaming/detail/Event/e_101225257/junge-positionen-studierende-d
 er-hfk-bemen-hendrik-cordes-simoan-wohlgemuth-merle-tatoli-gestalten-gesta
 lten
DTEND;TZID=Europe/Berlin:20260704T170000
DTSTAMP:20260422T050713Z
DTSTART;TZID=Europe/Berlin:20260704T140000
GEO:53.113638;9.400907
LOCATION:Kunstverein Rotenburg e.V.\, Nödenstr. 9\, Rotenburg (Wümme)
ORGANIZER;CN=Kunstverein Rotenburg e.V.:mailto:info@kunstverein-row.de
SEQUENCE:0
SUMMARY:"Junge Positionen" - Studierende der HFK Bemen\, Hendrik Cordes\, S
 imoan Wohlgemuth\, Merle Tatoli "Gestalten gestalten"
UID:e_101225257_iv3
URL:http://pages.destination.one/de/nordwaerts/streaming/detail/Event/e_101
 225257/junge-positionen-studierende-der-hfk-bemen-hendrik-cordes-simoan-wo
 hlgemuth-merle-tatoli-gestalten-gestalten
END:VEVENT
BEGIN:VEVENT
CATEGORIES:Ausstellung
DESCRIPTION:\n\nmehr Informationen unter http://pages.destination.one/de/no
 rdwaerts/streaming/detail/Event/e_101225257/junge-positionen-studierende-d
 er-hfk-bemen-hendrik-cordes-simoan-wohlgemuth-merle-tatoli-gestalten-gesta
 lten
DTEND;TZID=Europe/Berlin:20260705T170000
DTSTAMP:20260422T050713Z
DTSTART;TZID=Europe/Berlin:20260705T110000
GEO:53.113638;9.400907
LOCATION:Kunstverein Rotenburg e.V.\, Nödenstr. 9\, Rotenburg (Wümme)
ORGANIZER;CN=Kunstverein Rotenburg e.V.:mailto:info@kunstverein-row.de
SEQUENCE:0
SUMMARY:"Junge Positionen" - Studierende der HFK Bemen\, Hendrik Cordes\, S
 imoan Wohlgemuth\, Merle Tatoli "Gestalten gestalten"
UID:e_101225257_iv4
URL:http://pages.destination.one/de/nordwaerts/streaming/detail/Event/e_101
 225257/junge-positionen-studierende-der-hfk-bemen-hendrik-cordes-simoan-wo
 hlgemuth-merle-tatoli-gestalten-gestalten
END:VEVENT
BEGIN:VEVENT
CATEGORIES:Ausstellung
DESCRIPTION:\n\nmehr Informationen unter http://pages.destination.one/de/no
 rdwaerts/streaming/detail/Event/e_101225257/junge-positionen-studierende-d
 er-hfk-bemen-hendrik-cordes-simoan-wohlgemuth-merle-tatoli-gestalten-gesta
 lten
DTEND;TZID=Europe/Berlin:20260711T170000
DTSTAMP:20260422T050713Z
DTSTART;TZID=Europe/Berlin:20260711T140000
GEO:53.113638;9.400907
LOCATION:Kunstverein Rotenburg e.V.\, Nödenstr. 9\, Rotenburg (Wümme)
ORGANIZER;CN=Kunstverein Rotenburg e.V.:mailto:info@kunstverein-row.de
SEQUENCE:0
SUMMARY:"Junge Positionen" - Studierende der HFK Bemen\, Hendrik Cordes\, S
 imoan Wohlgemuth\, Merle Tatoli "Gestalten gestalten"
UID:e_101225257_iv5
URL:http://pages.destination.one/de/nordwaerts/streaming/detail/Event/e_101
 225257/junge-positionen-studierende-der-hfk-bemen-hendrik-cordes-simoan-wo
 hlgemuth-merle-tatoli-gestalten-gestalten
END:VEVENT
BEGIN:VEVENT
CATEGORIES:Ausstellung
DESCRIPTION:\n\nmehr Informationen unter http://pages.destination.one/de/no
 rdwaerts/streaming/detail/Event/e_101225257/junge-positionen-studierende-d
 er-hfk-bemen-hendrik-cordes-simoan-wohlgemuth-merle-tatoli-gestalten-gesta
 lten
DTEND;TZID=Europe/Berlin:20260712T170000
DTSTAMP:20260422T050713Z
DTSTART;TZID=Europe/Berlin:20260712T110000
GEO:53.113638;9.400907
LOCATION:Kunstverein Rotenburg e.V.\, Nödenstr. 9\, Rotenburg (Wümme)
ORGANIZER;CN=Kunstverein Rotenburg e.V.:mailto:info@kunstverein-row.de
SEQUENCE:0
SUMMARY:"Junge Positionen" - Studierende der HFK Bemen\, Hendrik Cordes\, S
 imoan Wohlgemuth\, Merle Tatoli "Gestalten gestalten"
UID:e_101225257_iv6
URL:http://pages.destination.one/de/nordwaerts/streaming/detail/Event/e_101
 225257/junge-positionen-studierende-der-hfk-bemen-hendrik-cordes-simoan-wo
 hlgemuth-merle-tatoli-gestalten-gestalten
END:VEVENT
BEGIN:VEVENT
CATEGORIES:Ausstellung
DESCRIPTION:\n\nmehr Informationen unter http://pages.destination.one/de/no
 rdwaerts/streaming/detail/Event/e_101225257/junge-positionen-studierende-d
 er-hfk-bemen-hendrik-cordes-simoan-wohlgemuth-merle-tatoli-gestalten-gesta
 lten
DTEND;TZID=Europe/Berlin:20260718T170000
DTSTAMP:20260422T050713Z
DTSTART;TZID=Europe/Berlin:20260718T140000
GEO:53.113638;9.400907
LOCATION:Kunstverein Rotenburg e.V.\, Nödenstr. 9\, Rotenburg (Wümme)
ORGANIZER;CN=Kunstverein Rotenburg e.V.:mailto:info@kunstverein-row.de
SEQUENCE:0
SUMMARY:"Junge Positionen" - Studierende der HFK Bemen\, Hendrik Cordes\, S
 imoan Wohlgemuth\, Merle Tatoli "Gestalten gestalten"
UID:e_101225257_iv7
URL:http://pages.destination.one/de/nordwaerts/streaming/detail/Event/e_101
 225257/junge-positionen-studierende-der-hfk-bemen-hendrik-cordes-simoan-wo
 hlgemuth-merle-tatoli-gestalten-gestalten
END:VEVENT
BEGIN:VEVENT
CATEGORIES:Ausstellung
DESCRIPTION:\n\nmehr Informationen unter http://pages.destination.one/de/no
 rdwaerts/streaming/detail/Event/e_101225257/junge-positionen-studierende-d
 er-hfk-bemen-hendrik-cordes-simoan-wohlgemuth-merle-tatoli-gestalten-gesta
 lten
DTEND;TZID=Europe/Berlin:20260719T170000
DTSTAMP:20260422T050713Z
DTSTART;TZID=Europe/Berlin:20260719T110000
GEO:53.113638;9.400907
LOCATION:Kunstverein Rotenburg e.V.\, Nödenstr. 9\, Rotenburg (Wümme)
ORGANIZER;CN=Kunstverein Rotenburg e.V.:mailto:info@kunstverein-row.de
SEQUENCE:0
SUMMARY:"Junge Positionen" - Studierende der HFK Bemen\, Hendrik Cordes\, S
 imoan Wohlgemuth\, Merle Tatoli "Gestalten gestalten"
UID:e_101225257_iv8
URL:http://pages.destination.one/de/nordwaerts/streaming/detail/Event/e_101
 225257/junge-positionen-studierende-der-hfk-bemen-hendrik-cordes-simoan-wo
 hlgemuth-merle-tatoli-gestalten-gestalten
END:VEVENT
BEGIN:VTIMEZONE
TZID:Europe/Berlin
X-LIC-LOCATION:Europe/Berlin
BEGIN:DAYLIGHT
DTSTART:19700329T020000
RRULE:FREQ=YEARLY;BYDAY=-1SU;BYMONTH=3
TZNAME:CEST
TZOFFSETFROM:+0100
TZOFFSETTO:+0200
END:DAYLIGHT
BEGIN:STANDARD
DTSTART:19701025T030000
RRULE:FREQ=YEARLY;BYDAY=-1SU;BYMONTH=10
TZNAME:CET
TZOFFSETFROM:+0200
TZOFFSETTO:+0100
END:STANDARD
END:VTIMEZONE
END:VCALENDAR
