BEGIN:VCALENDAR
VERSION:2.0
PRODID:-//destination.one//NONSGML destination.meta API//DE
X-WR-CALDESC:A calendar powered by destination.meta
X-WR-CALNAME:nordwaerts Kalender via destination.meta
BEGIN:VEVENT
CATEGORIES:Feuerwerk
CATEGORIES:Laufen
DESCRIPTION:\n\nmehr Informationen unter http://pages.destination.one/de/no
 rdwaerts/streaming/detail/Event/e_101226027/abendvolkslauf-wilstedt-bei-na
 cht
DTEND;TZID=Europe/Berlin:20260529T235900
DTSTAMP:20260424T123547Z
DTSTART;TZID=Europe/Berlin:20260529T170000
GEO:53.189656;9.102452
LOCATION:Sportplatz Wilstedt\, An der Reitbahn 3\, Wilstedt
ORGANIZER;CN=Abendvolkslauf Wilstedt bei Nacht:mailto:info@abendlauf.de
SEQUENCE:0
SUMMARY:Abendvolkslauf "Wilstedt bei Nacht"
UID:e_101226027_iv0
URL:http://pages.destination.one/de/nordwaerts/streaming/detail/Event/e_101
 226027/abendvolkslauf-wilstedt-bei-nacht
END:VEVENT
BEGIN:VTIMEZONE
TZID:Europe/Berlin
X-LIC-LOCATION:Europe/Berlin
BEGIN:DAYLIGHT
DTSTART:19700329T020000
RRULE:FREQ=YEARLY;BYDAY=-1SU;BYMONTH=3
TZNAME:CEST
TZOFFSETFROM:+0100
TZOFFSETTO:+0200
END:DAYLIGHT
BEGIN:STANDARD
DTSTART:19701025T030000
RRULE:FREQ=YEARLY;BYDAY=-1SU;BYMONTH=10
TZNAME:CET
TZOFFSETFROM:+0200
TZOFFSETTO:+0100
END:STANDARD
END:VTIMEZONE
END:VCALENDAR
