BEGIN:VCALENDAR
VERSION:2.0
PRODID:-//destination.one//NONSGML destination.meta API//DE
X-WR-CALDESC:A calendar powered by destination.meta
X-WR-CALNAME:nordwaerts Kalender via destination.meta
BEGIN:VEVENT
CATEGORIES:Konzert
CATEGORIES:Musik sonstige
CATEGORIES:Zeltparty
DESCRIPTION:Zwei Tage voller Musik mit dem Blasorchester der Freiwilligen F
 euerwehr Sittensen\n\nmehr Informationen unter http://pages.destination.on
 e/de/nordwaerts/streaming/detail/Event/e_101235887/tanz-in-den-mai-maifr-h
 schoppen-der-freiwilligen-feuerwehr-sittensen
DTEND;TZID=Europe/Berlin:20260501T160000
DTSTAMP:20260424T110451Z
DTSTART;TZID=Europe/Berlin:20260430T200000
GEO:53.286192;9.503925
LOCATION:Sportplatz an der KGS Sittensen\, Scheeßeler Str. 1\, Sittensen
ORGANIZER;CN=Freiwillige Feuerwehr Sittensen:mailto:kontakt@blasorchester-s
 ittensen.de
SEQUENCE:0
SUMMARY:Tanz in den Mai & Maifrühschoppen der Freiwilligen Feuerwehr SItten
 sen
UID:e_101235887_iv0
URL:http://pages.destination.one/de/nordwaerts/streaming/detail/Event/e_101
 235887/tanz-in-den-mai-maifr-hschoppen-der-freiwilligen-feuerwehr-sittense
 n
END:VEVENT
BEGIN:VTIMEZONE
TZID:Europe/Berlin
X-LIC-LOCATION:Europe/Berlin
BEGIN:DAYLIGHT
DTSTART:19700329T020000
RRULE:FREQ=YEARLY;BYDAY=-1SU;BYMONTH=3
TZNAME:CEST
TZOFFSETFROM:+0100
TZOFFSETTO:+0200
END:DAYLIGHT
BEGIN:STANDARD
DTSTART:19701025T030000
RRULE:FREQ=YEARLY;BYDAY=-1SU;BYMONTH=10
TZNAME:CET
TZOFFSETFROM:+0200
TZOFFSETTO:+0100
END:STANDARD
END:VTIMEZONE
END:VCALENDAR
