BEGIN:VCALENDAR
VERSION:2.0
PRODID:-//destination.one//NONSGML destination.meta API//DE
X-WR-CALDESC:A calendar powered by destination.meta
X-WR-CALNAME:nordwaerts Kalender via destination.meta
BEGIN:VEVENT
CATEGORIES:Ausstellung
DESCRIPTION:\n\nmehr Informationen unter http://pages.destination.one/de/no
 rdwaerts/streaming/detail/Event/e_101245923/ausstellung-deutschland-aber-n
 ormal-kein-bock-auf-v-lkisch
DTEND;TZID=Europe/Berlin:20260905T170000
DTSTAMP:20260422T051437Z
DTSTART;TZID=Europe/Berlin:20260905T140000
GEO:53.113638;9.400907
LOCATION:Kunstverein Rotenburg e.V.\, Nödenstr. 9\, Rotenburg (Wümme)
ORGANIZER;CN=Kunstverein Rotenburg e.V.:mailto:info@kunstverein-row.de
SEQUENCE:0
SUMMARY:Ausstellung: "Deutschland. Aber normal" "Kein Bock auf Völkisch."
UID:e_101245923_iv0
URL:http://pages.destination.one/de/nordwaerts/streaming/detail/Event/e_101
 245923/ausstellung-deutschland-aber-normal-kein-bock-auf-v-lkisch
END:VEVENT
BEGIN:VEVENT
CATEGORIES:Ausstellung
DESCRIPTION:\n\nmehr Informationen unter http://pages.destination.one/de/no
 rdwaerts/streaming/detail/Event/e_101245923/ausstellung-deutschland-aber-n
 ormal-kein-bock-auf-v-lkisch
DTEND;TZID=Europe/Berlin:20260906T170000
DTSTAMP:20260422T051437Z
DTSTART;TZID=Europe/Berlin:20260906T110000
GEO:53.113638;9.400907
LOCATION:Kunstverein Rotenburg e.V.\, Nödenstr. 9\, Rotenburg (Wümme)
ORGANIZER;CN=Kunstverein Rotenburg e.V.:mailto:info@kunstverein-row.de
SEQUENCE:0
SUMMARY:Ausstellung: "Deutschland. Aber normal" "Kein Bock auf Völkisch."
UID:e_101245923_iv1
URL:http://pages.destination.one/de/nordwaerts/streaming/detail/Event/e_101
 245923/ausstellung-deutschland-aber-normal-kein-bock-auf-v-lkisch
END:VEVENT
BEGIN:VEVENT
CATEGORIES:Ausstellung
DESCRIPTION:\n\nmehr Informationen unter http://pages.destination.one/de/no
 rdwaerts/streaming/detail/Event/e_101245923/ausstellung-deutschland-aber-n
 ormal-kein-bock-auf-v-lkisch
DTEND;TZID=Europe/Berlin:20260912T170000
DTSTAMP:20260422T051437Z
DTSTART;TZID=Europe/Berlin:20260912T140000
GEO:53.113638;9.400907
LOCATION:Kunstverein Rotenburg e.V.\, Nödenstr. 9\, Rotenburg (Wümme)
ORGANIZER;CN=Kunstverein Rotenburg e.V.:mailto:info@kunstverein-row.de
SEQUENCE:0
SUMMARY:Ausstellung: "Deutschland. Aber normal" "Kein Bock auf Völkisch."
UID:e_101245923_iv2
URL:http://pages.destination.one/de/nordwaerts/streaming/detail/Event/e_101
 245923/ausstellung-deutschland-aber-normal-kein-bock-auf-v-lkisch
END:VEVENT
BEGIN:VEVENT
CATEGORIES:Ausstellung
DESCRIPTION:\n\nmehr Informationen unter http://pages.destination.one/de/no
 rdwaerts/streaming/detail/Event/e_101245923/ausstellung-deutschland-aber-n
 ormal-kein-bock-auf-v-lkisch
DTEND;TZID=Europe/Berlin:20260913T170000
DTSTAMP:20260422T051437Z
DTSTART;TZID=Europe/Berlin:20260913T110000
GEO:53.113638;9.400907
LOCATION:Kunstverein Rotenburg e.V.\, Nödenstr. 9\, Rotenburg (Wümme)
ORGANIZER;CN=Kunstverein Rotenburg e.V.:mailto:info@kunstverein-row.de
SEQUENCE:0
SUMMARY:Ausstellung: "Deutschland. Aber normal" "Kein Bock auf Völkisch."
UID:e_101245923_iv3
URL:http://pages.destination.one/de/nordwaerts/streaming/detail/Event/e_101
 245923/ausstellung-deutschland-aber-normal-kein-bock-auf-v-lkisch
END:VEVENT
BEGIN:VEVENT
CATEGORIES:Ausstellung
DESCRIPTION:\n\nmehr Informationen unter http://pages.destination.one/de/no
 rdwaerts/streaming/detail/Event/e_101245923/ausstellung-deutschland-aber-n
 ormal-kein-bock-auf-v-lkisch
DTEND;TZID=Europe/Berlin:20260919T170000
DTSTAMP:20260422T051437Z
DTSTART;TZID=Europe/Berlin:20260919T140000
GEO:53.113638;9.400907
LOCATION:Kunstverein Rotenburg e.V.\, Nödenstr. 9\, Rotenburg (Wümme)
ORGANIZER;CN=Kunstverein Rotenburg e.V.:mailto:info@kunstverein-row.de
SEQUENCE:0
SUMMARY:Ausstellung: "Deutschland. Aber normal" "Kein Bock auf Völkisch."
UID:e_101245923_iv4
URL:http://pages.destination.one/de/nordwaerts/streaming/detail/Event/e_101
 245923/ausstellung-deutschland-aber-normal-kein-bock-auf-v-lkisch
END:VEVENT
BEGIN:VEVENT
CATEGORIES:Ausstellung
DESCRIPTION:\n\nmehr Informationen unter http://pages.destination.one/de/no
 rdwaerts/streaming/detail/Event/e_101245923/ausstellung-deutschland-aber-n
 ormal-kein-bock-auf-v-lkisch
DTEND;TZID=Europe/Berlin:20260920T170000
DTSTAMP:20260422T051437Z
DTSTART;TZID=Europe/Berlin:20260920T110000
GEO:53.113638;9.400907
LOCATION:Kunstverein Rotenburg e.V.\, Nödenstr. 9\, Rotenburg (Wümme)
ORGANIZER;CN=Kunstverein Rotenburg e.V.:mailto:info@kunstverein-row.de
SEQUENCE:0
SUMMARY:Ausstellung: "Deutschland. Aber normal" "Kein Bock auf Völkisch."
UID:e_101245923_iv5
URL:http://pages.destination.one/de/nordwaerts/streaming/detail/Event/e_101
 245923/ausstellung-deutschland-aber-normal-kein-bock-auf-v-lkisch
END:VEVENT
BEGIN:VEVENT
CATEGORIES:Ausstellung
DESCRIPTION:\n\nmehr Informationen unter http://pages.destination.one/de/no
 rdwaerts/streaming/detail/Event/e_101245923/ausstellung-deutschland-aber-n
 ormal-kein-bock-auf-v-lkisch
DTEND;TZID=Europe/Berlin:20260926T170000
DTSTAMP:20260422T051437Z
DTSTART;TZID=Europe/Berlin:20260926T140000
GEO:53.113638;9.400907
LOCATION:Kunstverein Rotenburg e.V.\, Nödenstr. 9\, Rotenburg (Wümme)
ORGANIZER;CN=Kunstverein Rotenburg e.V.:mailto:info@kunstverein-row.de
SEQUENCE:0
SUMMARY:Ausstellung: "Deutschland. Aber normal" "Kein Bock auf Völkisch."
UID:e_101245923_iv6
URL:http://pages.destination.one/de/nordwaerts/streaming/detail/Event/e_101
 245923/ausstellung-deutschland-aber-normal-kein-bock-auf-v-lkisch
END:VEVENT
BEGIN:VEVENT
CATEGORIES:Ausstellung
DESCRIPTION:\n\nmehr Informationen unter http://pages.destination.one/de/no
 rdwaerts/streaming/detail/Event/e_101245923/ausstellung-deutschland-aber-n
 ormal-kein-bock-auf-v-lkisch
DTEND;TZID=Europe/Berlin:20260927T170000
DTSTAMP:20260422T051437Z
DTSTART;TZID=Europe/Berlin:20260927T110000
GEO:53.113638;9.400907
LOCATION:Kunstverein Rotenburg e.V.\, Nödenstr. 9\, Rotenburg (Wümme)
ORGANIZER;CN=Kunstverein Rotenburg e.V.:mailto:info@kunstverein-row.de
SEQUENCE:0
SUMMARY:Ausstellung: "Deutschland. Aber normal" "Kein Bock auf Völkisch."
UID:e_101245923_iv7
URL:http://pages.destination.one/de/nordwaerts/streaming/detail/Event/e_101
 245923/ausstellung-deutschland-aber-normal-kein-bock-auf-v-lkisch
END:VEVENT
BEGIN:VEVENT
CATEGORIES:Ausstellung
DESCRIPTION:\n\nmehr Informationen unter http://pages.destination.one/de/no
 rdwaerts/streaming/detail/Event/e_101245923/ausstellung-deutschland-aber-n
 ormal-kein-bock-auf-v-lkisch
DTEND;TZID=Europe/Berlin:20261003T170000
DTSTAMP:20260422T051437Z
DTSTART;TZID=Europe/Berlin:20261003T140000
GEO:53.113638;9.400907
LOCATION:Kunstverein Rotenburg e.V.\, Nödenstr. 9\, Rotenburg (Wümme)
ORGANIZER;CN=Kunstverein Rotenburg e.V.:mailto:info@kunstverein-row.de
SEQUENCE:0
SUMMARY:Ausstellung: "Deutschland. Aber normal" "Kein Bock auf Völkisch."
UID:e_101245923_iv8
URL:http://pages.destination.one/de/nordwaerts/streaming/detail/Event/e_101
 245923/ausstellung-deutschland-aber-normal-kein-bock-auf-v-lkisch
END:VEVENT
BEGIN:VEVENT
CATEGORIES:Ausstellung
DESCRIPTION:\n\nmehr Informationen unter http://pages.destination.one/de/no
 rdwaerts/streaming/detail/Event/e_101245923/ausstellung-deutschland-aber-n
 ormal-kein-bock-auf-v-lkisch
DTEND;TZID=Europe/Berlin:20261004T140000
DTSTAMP:20260422T051437Z
DTSTART;TZID=Europe/Berlin:20261004T110000
GEO:53.113638;9.400907
LOCATION:Kunstverein Rotenburg e.V.\, Nödenstr. 9\, Rotenburg (Wümme)
ORGANIZER;CN=Kunstverein Rotenburg e.V.:mailto:info@kunstverein-row.de
SEQUENCE:0
SUMMARY:Ausstellung: "Deutschland. Aber normal" "Kein Bock auf Völkisch."
UID:e_101245923_iv9
URL:http://pages.destination.one/de/nordwaerts/streaming/detail/Event/e_101
 245923/ausstellung-deutschland-aber-normal-kein-bock-auf-v-lkisch
END:VEVENT
BEGIN:VEVENT
CATEGORIES:Ausstellung
DESCRIPTION:\n\nmehr Informationen unter http://pages.destination.one/de/no
 rdwaerts/streaming/detail/Event/e_101245923/ausstellung-deutschland-aber-n
 ormal-kein-bock-auf-v-lkisch
DTEND;TZID=Europe/Berlin:20261010T170000
DTSTAMP:20260422T051437Z
DTSTART;TZID=Europe/Berlin:20261010T140000
GEO:53.113638;9.400907
LOCATION:Kunstverein Rotenburg e.V.\, Nödenstr. 9\, Rotenburg (Wümme)
ORGANIZER;CN=Kunstverein Rotenburg e.V.:mailto:info@kunstverein-row.de
SEQUENCE:0
SUMMARY:Ausstellung: "Deutschland. Aber normal" "Kein Bock auf Völkisch."
UID:e_101245923_iv10
URL:http://pages.destination.one/de/nordwaerts/streaming/detail/Event/e_101
 245923/ausstellung-deutschland-aber-normal-kein-bock-auf-v-lkisch
END:VEVENT
BEGIN:VEVENT
CATEGORIES:Ausstellung
DESCRIPTION:\n\nmehr Informationen unter http://pages.destination.one/de/no
 rdwaerts/streaming/detail/Event/e_101245923/ausstellung-deutschland-aber-n
 ormal-kein-bock-auf-v-lkisch
DTEND;TZID=Europe/Berlin:20261011T170000
DTSTAMP:20260422T051437Z
DTSTART;TZID=Europe/Berlin:20261011T110000
GEO:53.113638;9.400907
LOCATION:Kunstverein Rotenburg e.V.\, Nödenstr. 9\, Rotenburg (Wümme)
ORGANIZER;CN=Kunstverein Rotenburg e.V.:mailto:info@kunstverein-row.de
SEQUENCE:0
SUMMARY:Ausstellung: "Deutschland. Aber normal" "Kein Bock auf Völkisch."
UID:e_101245923_iv11
URL:http://pages.destination.one/de/nordwaerts/streaming/detail/Event/e_101
 245923/ausstellung-deutschland-aber-normal-kein-bock-auf-v-lkisch
END:VEVENT
BEGIN:VTIMEZONE
TZID:Europe/Berlin
X-LIC-LOCATION:Europe/Berlin
BEGIN:DAYLIGHT
DTSTART:19700329T020000
RRULE:FREQ=YEARLY;BYDAY=-1SU;BYMONTH=3
TZNAME:CEST
TZOFFSETFROM:+0100
TZOFFSETTO:+0200
END:DAYLIGHT
BEGIN:STANDARD
DTSTART:19701025T030000
RRULE:FREQ=YEARLY;BYDAY=-1SU;BYMONTH=10
TZNAME:CET
TZOFFSETFROM:+0200
TZOFFSETTO:+0100
END:STANDARD
END:VTIMEZONE
END:VCALENDAR
