BEGIN:VCALENDAR
VERSION:2.0
PRODID:-//destination.one//NONSGML destination.meta API//DE
X-WR-CALDESC:A calendar powered by destination.meta
X-WR-CALNAME:nordwaerts Kalender via destination.meta
BEGIN:VEVENT
CATEGORIES:Ausstellung
DESCRIPTION:\n\nmehr Informationen unter http://pages.destination.one/de/no
 rdwaerts/streaming/detail/Event/e_101245930/ausstellungser-ffnung-katharin
 a-k-hne-l-neburg-the-fragile-order
DTEND;TZID=Europe/Berlin:20261023T235900
DTSTAMP:20260422T052626Z
DTSTART;TZID=Europe/Berlin:20261023T190000
GEO:53.113638;9.400907
LOCATION:Kunstverein Rotenburg e.V.\, Nödenstr. 9\, Rotenburg (Wümme)
ORGANIZER;CN=Kunstverein Rotenburg e.V.:mailto:info@kunstverein-row.de
SEQUENCE:0
SUMMARY:Ausstellungseröffnung: Katharina Kühne\, Lüneburg "The Fragile Orde
 r"
UID:e_101245930_iv0
URL:http://pages.destination.one/de/nordwaerts/streaming/detail/Event/e_101
 245930/ausstellungser-ffnung-katharina-k-hne-l-neburg-the-fragile-order
END:VEVENT
BEGIN:VTIMEZONE
TZID:Europe/Berlin
X-LIC-LOCATION:Europe/Berlin
BEGIN:DAYLIGHT
DTSTART:19700329T020000
RRULE:FREQ=YEARLY;BYDAY=-1SU;BYMONTH=3
TZNAME:CEST
TZOFFSETFROM:+0100
TZOFFSETTO:+0200
END:DAYLIGHT
BEGIN:STANDARD
DTSTART:19701025T030000
RRULE:FREQ=YEARLY;BYDAY=-1SU;BYMONTH=10
TZNAME:CET
TZOFFSETFROM:+0200
TZOFFSETTO:+0100
END:STANDARD
END:VTIMEZONE
END:VCALENDAR
