BEGIN:VCALENDAR
VERSION:2.0
PRODID:-//destination.one//NONSGML destination.meta API//DE
X-WR-CALDESC:A calendar powered by destination.meta
X-WR-CALNAME:nordwaerts Kalender via destination.meta
BEGIN:VEVENT
CATEGORIES:... mit Tieren
DESCRIPTION:Sie wollten schon immer einen Hund aus dem Tierschutz kennenler
 nen?\n\nmehr Informationen unter http://pages.destination.one/de/nordwaert
 s/streaming/detail/Event/e_101250423/bark-date
DTEND;TZID=Europe/Berlin:20260607T120000
DTSTAMP:20260420T111833Z
DTSTART;TZID=Europe/Berlin:20260607T100000
GEO:53.490324;9.143951
LOCATION:Hundewiese Bremervörde \, Rahlandsweg\, Bremervörde
ORGANIZER;CN=Hundefreunde Bremervörde e.V.:mailto:hundewiesebrv@web.de
SEQUENCE:0
SUMMARY:Bark Date
UID:e_101250423_iv0
URL:http://pages.destination.one/de/nordwaerts/streaming/detail/Event/e_101
 250423/bark-date
END:VEVENT
BEGIN:VTIMEZONE
TZID:Europe/Berlin
X-LIC-LOCATION:Europe/Berlin
BEGIN:DAYLIGHT
DTSTART:19700329T020000
RRULE:FREQ=YEARLY;BYDAY=-1SU;BYMONTH=3
TZNAME:CEST
TZOFFSETFROM:+0100
TZOFFSETTO:+0200
END:DAYLIGHT
BEGIN:STANDARD
DTSTART:19701025T030000
RRULE:FREQ=YEARLY;BYDAY=-1SU;BYMONTH=10
TZNAME:CET
TZOFFSETFROM:+0200
TZOFFSETTO:+0100
END:STANDARD
END:VTIMEZONE
END:VCALENDAR
