BEGIN:VCALENDAR
VERSION:2.0
PRODID:-//destination.one//NONSGML destination.meta API//DE
X-WR-CALDESC:A calendar powered by destination.meta
X-WR-CALNAME:nordwaerts Kalender via destination.meta
BEGIN:VEVENT
CATEGORIES:Bürgerangebote sonstige
CATEGORIES:Wandern
CATEGORIES:Tradition\, Brauchtum\, Volksfest sonstige
DESCRIPTION:Die mehrtägige Familienveranstaltung orientiert sich am niederl
 ändischen Konzept. An vier Abenden steht jeweils eine Strecke von 5 oder 1
 0 Kilometern in und um Zeven zur Auswahl\, die wahlweise marschierend oder
  per Nordic Walking zurückgelegt werden kann.\n\nmehr Informationen unter 
 http://pages.destination.one/de/nordwaerts/streaming/detail/Event/e_101253
 511/vier-abend-m-rsche
DTEND;TZID=Europe/Berlin;VALUE=DATE:20260603
DTSTAMP:20260420T112632Z
DTSTART;TZID=Europe/Berlin;VALUE=DATE:20260602
GEO:53.296206;9.290201
LOCATION:Veranstaltungsgelände\, Hinter der Ahe 3\, Zeven
SEQUENCE:0
SUMMARY:Vier-Abend-Märsche
UID:e_101253511_iv0
URL:http://pages.destination.one/de/nordwaerts/streaming/detail/Event/e_101
 253511/vier-abend-m-rsche
END:VEVENT
BEGIN:VTIMEZONE
TZID:Europe/Berlin
X-LIC-LOCATION:Europe/Berlin
BEGIN:DAYLIGHT
DTSTART:19700329T020000
RRULE:FREQ=YEARLY;BYDAY=-1SU;BYMONTH=3
TZNAME:CEST
TZOFFSETFROM:+0100
TZOFFSETTO:+0200
END:DAYLIGHT
BEGIN:STANDARD
DTSTART:19701025T030000
RRULE:FREQ=YEARLY;BYDAY=-1SU;BYMONTH=10
TZNAME:CET
TZOFFSETFROM:+0200
TZOFFSETTO:+0100
END:STANDARD
END:VTIMEZONE
END:VCALENDAR
