BEGIN:VCALENDAR
VERSION:2.0
PRODID:-//destination.one//NONSGML destination.meta API//DE
X-WR-CALDESC:A calendar powered by destination.meta
X-WR-CALNAME:nordwaerts Kalender via destination.meta
BEGIN:VEVENT
CATEGORIES:Ausstellung
DESCRIPTION:Kunstausstellung in Visselhövede\n\nmehr Informationen unter ht
 tp://pages.destination.one/de/nordwaerts/streaming/detail/Event/e_10125376
 4/artoutlet-ent-falten-ver-woben
DTEND;TZID=Europe/Berlin:20260501T180000
DTSTAMP:20260423T083442Z
DTSTART;TZID=Europe/Berlin:20260501T110000
GEO:52.976111;9.597215
LOCATION:ArtOutlet - Die Dauer(nd)Ausstellung\, Annemarie-Renger-Str. 1\, V
 isselhövede
SEQUENCE:0
SUMMARY:ArtOutlet - (Ent)falten & (Ver)woben
UID:e_101253764_iv0
URL:http://pages.destination.one/de/nordwaerts/streaming/detail/Event/e_101
 253764/artoutlet-ent-falten-ver-woben
END:VEVENT
BEGIN:VEVENT
CATEGORIES:Ausstellung
DESCRIPTION:Kunstausstellung in Visselhövede\n\nmehr Informationen unter ht
 tp://pages.destination.one/de/nordwaerts/streaming/detail/Event/e_10125376
 4/artoutlet-ent-falten-ver-woben
DTEND;TZID=Europe/Berlin:20260502T180000
DTSTAMP:20260423T083442Z
DTSTART;TZID=Europe/Berlin:20260502T110000
GEO:52.976111;9.597215
LOCATION:ArtOutlet - Die Dauer(nd)Ausstellung\, Annemarie-Renger-Str. 1\, V
 isselhövede
SEQUENCE:0
SUMMARY:ArtOutlet - (Ent)falten & (Ver)woben
UID:e_101253764_iv1
URL:http://pages.destination.one/de/nordwaerts/streaming/detail/Event/e_101
 253764/artoutlet-ent-falten-ver-woben
END:VEVENT
BEGIN:VTIMEZONE
TZID:Europe/Berlin
X-LIC-LOCATION:Europe/Berlin
BEGIN:DAYLIGHT
DTSTART:19700329T020000
RRULE:FREQ=YEARLY;BYDAY=-1SU;BYMONTH=3
TZNAME:CEST
TZOFFSETFROM:+0100
TZOFFSETTO:+0200
END:DAYLIGHT
BEGIN:STANDARD
DTSTART:19701025T030000
RRULE:FREQ=YEARLY;BYDAY=-1SU;BYMONTH=10
TZNAME:CET
TZOFFSETFROM:+0200
TZOFFSETTO:+0100
END:STANDARD
END:VTIMEZONE
END:VCALENDAR
