BEGIN:VCALENDAR
VERSION:2.0
PRODID:-//destination.one//NONSGML destination.meta API//DE
X-WR-CALDESC:A calendar powered by destination.meta
X-WR-CALNAME:nordwaerts Kalender via destination.meta
BEGIN:VEVENT
CATEGORIES:Begegnungsangebote
CATEGORIES:Familien/Kinder sonstige
CATEGORIES:Frühjahrsmarkt
DESCRIPTION:Fahrten durch das Tister Bauernmoor\, Flohmarkt und gastronomis
 ches Angebot am Haus der Natur\n\nmehr Informationen unter http://pages.de
 stination.one/de/nordwaerts/streaming/detail/Event/e_101256934/fr-hlingsfe
 st-beim-moorbahncaf-und-der-moorbahn-burgsittensen
DTEND;TZID=Europe/Berlin:20260501T173000
DTSTAMP:20260422T100447Z
DTSTART;TZID=Europe/Berlin:20260501T130000
GEO:53.279284;9.567293
LOCATION:Moorbahn Burgsittensen e.V.\, Hauptstraße 70\, Tiste
ORGANIZER;CN=Moorbahn Burgsittensen e.V.:mailto:moorbahn.burgsittensen@gmai
 l.com
SEQUENCE:0
SUMMARY:Frühlingsfest beim Moorbahncafé und der Moorbahn Burgsittensen
UID:e_101256934_iv0
URL:http://pages.destination.one/de/nordwaerts/streaming/detail/Event/e_101
 256934/fr-hlingsfest-beim-moorbahncaf-und-der-moorbahn-burgsittensen
END:VEVENT
BEGIN:VTIMEZONE
TZID:Europe/Berlin
X-LIC-LOCATION:Europe/Berlin
BEGIN:DAYLIGHT
DTSTART:19700329T020000
RRULE:FREQ=YEARLY;BYDAY=-1SU;BYMONTH=3
TZNAME:CEST
TZOFFSETFROM:+0100
TZOFFSETTO:+0200
END:DAYLIGHT
BEGIN:STANDARD
DTSTART:19701025T030000
RRULE:FREQ=YEARLY;BYDAY=-1SU;BYMONTH=10
TZNAME:CET
TZOFFSETFROM:+0200
TZOFFSETTO:+0100
END:STANDARD
END:VTIMEZONE
END:VCALENDAR
