BEGIN:VCALENDAR
VERSION:2.0
PRODID:-//destination.one//NONSGML destination.meta API//DE
X-WR-CALDESC:A calendar powered by destination.meta
X-WR-CALNAME:nordwaerts Kalender via destination.meta
BEGIN:VEVENT
CATEGORIES:Kunsthandwerkermarkt
CATEGORIES:Adventsmarkt
DESCRIPTION:Kunst\, Kulinarik und vorweihnachtliches Flair im Heimathaus Se
 lsingen\n\nmehr Informationen unter http://pages.destination.one/de/nordwa
 erts/streaming/detail/Event/e_101258532/6-engelmarkt-in-selsingen
DTEND;TZID=Europe/Berlin:20261107T170000
DTSTAMP:20260422T184737Z
DTSTART;TZID=Europe/Berlin:20261107T100000
GEO:53.371693;9.218109
LOCATION:Heimathaus Selsingen \, Grevenworth 8\, Selsingen
ORGANIZER;CN=Heimatfreunde Selsingen u. Umgebung e. V.:mailto:gerdaviebrock
 @gmx.net
SEQUENCE:0
SUMMARY:6. Engelmarkt in Selsingen
UID:e_101258532_iv0
URL:http://pages.destination.one/de/nordwaerts/streaming/detail/Event/e_101
 258532/6-engelmarkt-in-selsingen
END:VEVENT
BEGIN:VEVENT
CATEGORIES:Kunsthandwerkermarkt
CATEGORIES:Adventsmarkt
DESCRIPTION:Kunst\, Kulinarik und vorweihnachtliches Flair im Heimathaus Se
 lsingen\n\nmehr Informationen unter http://pages.destination.one/de/nordwa
 erts/streaming/detail/Event/e_101258532/6-engelmarkt-in-selsingen
DTEND;TZID=Europe/Berlin:20261108T170000
DTSTAMP:20260422T184737Z
DTSTART;TZID=Europe/Berlin:20261108T100000
GEO:53.371693;9.218109
LOCATION:Heimathaus Selsingen \, Grevenworth 8\, Selsingen
ORGANIZER;CN=Heimatfreunde Selsingen u. Umgebung e. V.:mailto:gerdaviebrock
 @gmx.net
SEQUENCE:0
SUMMARY:6. Engelmarkt in Selsingen
UID:e_101258532_iv1
URL:http://pages.destination.one/de/nordwaerts/streaming/detail/Event/e_101
 258532/6-engelmarkt-in-selsingen
END:VEVENT
BEGIN:VTIMEZONE
TZID:Europe/Berlin
X-LIC-LOCATION:Europe/Berlin
BEGIN:DAYLIGHT
DTSTART:19700329T020000
RRULE:FREQ=YEARLY;BYDAY=-1SU;BYMONTH=3
TZNAME:CEST
TZOFFSETFROM:+0100
TZOFFSETTO:+0200
END:DAYLIGHT
BEGIN:STANDARD
DTSTART:19701025T030000
RRULE:FREQ=YEARLY;BYDAY=-1SU;BYMONTH=10
TZNAME:CET
TZOFFSETFROM:+0200
TZOFFSETTO:+0100
END:STANDARD
END:VTIMEZONE
END:VCALENDAR
