BEGIN:VCALENDAR
VERSION:2.0
PRODID:-//destination.one//NONSGML destination.meta API//DE
X-WR-CALDESC:A calendar powered by destination.meta
X-WR-CALNAME:nordwaerts Kalender via destination.meta
BEGIN:VEVENT
CATEGORIES:Tradition\, Brauchtum\, Volksfest sonstige
CATEGORIES:Umzug (z.B. Trachten\, Karneval\, etc.)
CATEGORIES:Zeltparty
DESCRIPTION:Erntefest mit Zeltdisco\, Festprogramm und großem Ernteumzug\n\
 nmehr Informationen unter http://pages.destination.one/de/nordwaerts/strea
 ming/detail/Event/e_101258619/erntefest-in-anderlingen
DTEND;TZID=Europe/Berlin:20260913T150000
DTSTAMP:20260422T165721Z
DTSTART;TZID=Europe/Berlin:20260911T210000
GEO:53.371552;9.300871
LOCATION:Ortsmitte Anderlingen\, Selsinger Straße / Heinrich-Behnken-Straße
 \, Anderlingen
ORGANIZER;CN=Landjugend Anderlingen:mailto:yakirabrandt@gmail.com
SEQUENCE:0
SUMMARY:Erntefest in Anderlingen
UID:e_101258619_iv0
URL:http://pages.destination.one/de/nordwaerts/streaming/detail/Event/e_101
 258619/erntefest-in-anderlingen
END:VEVENT
BEGIN:VTIMEZONE
TZID:Europe/Berlin
X-LIC-LOCATION:Europe/Berlin
BEGIN:DAYLIGHT
DTSTART:19700329T020000
RRULE:FREQ=YEARLY;BYDAY=-1SU;BYMONTH=3
TZNAME:CEST
TZOFFSETFROM:+0100
TZOFFSETTO:+0200
END:DAYLIGHT
BEGIN:STANDARD
DTSTART:19701025T030000
RRULE:FREQ=YEARLY;BYDAY=-1SU;BYMONTH=10
TZNAME:CET
TZOFFSETFROM:+0200
TZOFFSETTO:+0100
END:STANDARD
END:VTIMEZONE
END:VCALENDAR
