BEGIN:VCALENDAR
VERSION:2.0
PRODID:-//destination.one//NONSGML destination.meta API//DE
X-WR-CALDESC:A calendar powered by destination.meta
X-WR-CALNAME:nordwaerts Kalender via destination.meta
BEGIN:VEVENT
CATEGORIES:Stadtfest
CATEGORIES:Verkaufsoffener Sonntag
CATEGORIES:Herbstmarkt
DESCRIPTION:Auch in diesem Jahr wird es wieder einen Stadtrummel in Bremerv
 örde geben...\n\nmehr Informationen unter http://pages.destination.one/de/
 nordwaerts/streaming/detail/Event/e_101259180/stadtrummel-in-bremerv-rde
DTEND;TZID=Europe/Berlin:20261002T220000
DTSTAMP:20260421T220651Z
DTSTART;TZID=Europe/Berlin:20261002T140000
GEO:53.486600;9.147000
LOCATION:Innenstadt\, Innenstadt\, Bremervörde
ORGANIZER;CN=Stadt Bremervörde (Herr Schomaker):mailto:v.schomaker@bremervo
 erde.de
SEQUENCE:0
SUMMARY:Stadtrummel in Bremervörde
UID:e_101259180_iv0
URL:http://pages.destination.one/de/nordwaerts/streaming/detail/Event/e_101
 259180/stadtrummel-in-bremerv-rde
END:VEVENT
BEGIN:VEVENT
CATEGORIES:Stadtfest
CATEGORIES:Verkaufsoffener Sonntag
CATEGORIES:Herbstmarkt
DESCRIPTION:Auch in diesem Jahr wird es wieder einen Stadtrummel in Bremerv
 örde geben...\n\nmehr Informationen unter http://pages.destination.one/de/
 nordwaerts/streaming/detail/Event/e_101259180/stadtrummel-in-bremerv-rde
DTEND;TZID=Europe/Berlin:20261003T220000
DTSTAMP:20260421T220651Z
DTSTART;TZID=Europe/Berlin:20261003T140000
GEO:53.486600;9.147000
LOCATION:Innenstadt\, Innenstadt\, Bremervörde
ORGANIZER;CN=Stadt Bremervörde (Herr Schomaker):mailto:v.schomaker@bremervo
 erde.de
SEQUENCE:0
SUMMARY:Stadtrummel in Bremervörde
UID:e_101259180_iv1
URL:http://pages.destination.one/de/nordwaerts/streaming/detail/Event/e_101
 259180/stadtrummel-in-bremerv-rde
END:VEVENT
BEGIN:VEVENT
CATEGORIES:Stadtfest
CATEGORIES:Verkaufsoffener Sonntag
CATEGORIES:Herbstmarkt
DESCRIPTION:Auch in diesem Jahr wird es wieder einen Stadtrummel in Bremerv
 örde geben...\n\nmehr Informationen unter http://pages.destination.one/de/
 nordwaerts/streaming/detail/Event/e_101259180/stadtrummel-in-bremerv-rde
DTEND;TZID=Europe/Berlin:20261004T180000
DTSTAMP:20260421T220651Z
DTSTART;TZID=Europe/Berlin:20261004T110000
GEO:53.486600;9.147000
LOCATION:Innenstadt\, Innenstadt\, Bremervörde
ORGANIZER;CN=Stadt Bremervörde (Herr Schomaker):mailto:v.schomaker@bremervo
 erde.de
SEQUENCE:0
SUMMARY:Stadtrummel in Bremervörde
UID:e_101259180_iv2
URL:http://pages.destination.one/de/nordwaerts/streaming/detail/Event/e_101
 259180/stadtrummel-in-bremerv-rde
END:VEVENT
BEGIN:VTIMEZONE
TZID:Europe/Berlin
X-LIC-LOCATION:Europe/Berlin
BEGIN:DAYLIGHT
DTSTART:19700329T020000
RRULE:FREQ=YEARLY;BYDAY=-1SU;BYMONTH=3
TZNAME:CEST
TZOFFSETFROM:+0100
TZOFFSETTO:+0200
END:DAYLIGHT
BEGIN:STANDARD
DTSTART:19701025T030000
RRULE:FREQ=YEARLY;BYDAY=-1SU;BYMONTH=10
TZNAME:CET
TZOFFSETFROM:+0200
TZOFFSETTO:+0100
END:STANDARD
END:VTIMEZONE
END:VCALENDAR
