BEGIN:VCALENDAR
VERSION:2.0
PRODID:-//destination.one//NONSGML destination.meta API//DE
X-WR-CALDESC:A calendar powered by destination.meta
X-WR-CALNAME:nordwaerts Kalender via destination.meta
BEGIN:VEVENT
CATEGORIES:RadEvents
CATEGORIES:Radsport
CATEGORIES:Naturerlebnis
CATEGORIES:Gesundheit sonstige
DESCRIPTION:Eröffnungstour \,\,Zwischen Gräbern und Geschichten - Steinzeit
 liche Spuren in der Samtgemeinde und umzu“ mit dem Fachdienst Kultur.\n\nm
 ehr Informationen unter http://pages.destination.one/de/nordwaerts/streami
 ng/detail/Event/e_101261800/er-ffnungstour-stadtradeln-mit-dem-fachdienst-
 kultur
DTEND;TZID=Europe/Berlin:20260510T235900
DTSTAMP:20260426T014918Z
DTSTART;TZID=Europe/Berlin:20260510T100000
GEO:53.295437;9.279457
LOCATION:Samtgemeinde Zeven\, \, Zeven
SEQUENCE:0
SUMMARY:Eröffnungstour Stadtradeln - mit dem Fachdienst Kultur
UID:e_101261800_iv0
URL:http://pages.destination.one/de/nordwaerts/streaming/detail/Event/e_101
 261800/er-ffnungstour-stadtradeln-mit-dem-fachdienst-kultur
END:VEVENT
BEGIN:VTIMEZONE
TZID:Europe/Berlin
X-LIC-LOCATION:Europe/Berlin
BEGIN:DAYLIGHT
DTSTART:19700329T020000
RRULE:FREQ=YEARLY;BYDAY=-1SU;BYMONTH=3
TZNAME:CEST
TZOFFSETFROM:+0100
TZOFFSETTO:+0200
END:DAYLIGHT
BEGIN:STANDARD
DTSTART:19701025T030000
RRULE:FREQ=YEARLY;BYDAY=-1SU;BYMONTH=10
TZNAME:CET
TZOFFSETFROM:+0200
TZOFFSETTO:+0100
END:STANDARD
END:VTIMEZONE
END:VCALENDAR
