BEGIN:VCALENDAR
VERSION:2.0
PRODID:-//destination.one//NONSGML destination.meta API//DE
X-WR-CALDESC:A calendar powered by destination.meta
X-WR-CALNAME:nordwaerts Kalender via destination.meta
BEGIN:VEVENT
CATEGORIES:RadEvents
CATEGORIES:Radsport
CATEGORIES:Naturerlebnis
CATEGORIES:Gesundheit sonstige
DESCRIPTION:Radtour „Grüne Oasen im Wandel“ mit dem Fachbereich 4 - Bau\, P
 lanung\, Umwelt .\n\nmehr Informationen unter http://pages.destination.one
 /de/nordwaerts/streaming/detail/Event/e_101261806/stadtradeln-tour-mit-dem
 -fachbereich-4-bau-planung-umwelt
DTEND;TZID=Europe/Berlin:20260518T235900
DTSTAMP:20260426T014027Z
DTSTART;TZID=Europe/Berlin:20260518T140000
GEO:53.295437;9.279457
LOCATION:Samtgemeinde Zeven\, \, Zeven
SEQUENCE:0
SUMMARY:Stadtradeln - Tour mit dem Fachbereich 4 - Bau\, Planung\, Umwelt
UID:e_101261806_iv0
URL:http://pages.destination.one/de/nordwaerts/streaming/detail/Event/e_101
 261806/stadtradeln-tour-mit-dem-fachbereich-4-bau-planung-umwelt
END:VEVENT
BEGIN:VTIMEZONE
TZID:Europe/Berlin
X-LIC-LOCATION:Europe/Berlin
BEGIN:DAYLIGHT
DTSTART:19700329T020000
RRULE:FREQ=YEARLY;BYDAY=-1SU;BYMONTH=3
TZNAME:CEST
TZOFFSETFROM:+0100
TZOFFSETTO:+0200
END:DAYLIGHT
BEGIN:STANDARD
DTSTART:19701025T030000
RRULE:FREQ=YEARLY;BYDAY=-1SU;BYMONTH=10
TZNAME:CET
TZOFFSETFROM:+0200
TZOFFSETTO:+0100
END:STANDARD
END:VTIMEZONE
END:VCALENDAR
